Workbook

Sheet Oversigt
A1: XML eksempler - Oversigt for Pensiondiverse
A2: Nummer | B2: Beskrivelse
A3: ='Eks 1'!A1 -> Eksempel 1 | B3: ='Eks 1'!A2 -> Indberetning på en konto eller ordning med 1 kontohaver (indlændinge, person), med kontotype 22
A4: ='Eks 2'!A1 -> Eksempel 2 | B4: ='Eks 2'!A2 -> Indberetning på en konto eller ordning med 1 kontohaver (udlændinge, person) med Tin og CPR nr., med kontotype 23. KontohaverIdentifikationMulig = true
A5: ='Eks 3'!A1 -> Eksempel 3 | B5: ='Eks 3'!A2 -> Indberetning på en konto eller ordning med 1 kontohaver (indlænding, virksomhed) med kontotype 24 (udbetaling/tilbagebetaling til en arbejdsgiver). (PensionKapitalværdi skal sættes til 0). Kontostart 1/5 2001.
A6: ='Eks 4'!A1 -> Eksempel 4 | B6: ='Eks 4'!A2 -> Indberetning på en konto eller ordning med 1 kontohaver (indlænding, virksomhed), med kontotype 24 (PensionKapitalværdi skal sættes til 0). Kontoen er oprettet i kalenderåret
A7: ='Eks 5'!A1 -> Eksempel 5 | B7: ='Eks 5'!A2 -> Indberetning på en konto eller ordning med 1 kontohaver (indlænding, person), med kontotype 25 (PensionKapitalværdi skal sættes til 0). Kontostart 1/5 2001
A8: ='Eks 6'!A1 -> Eksempel 6 | B8: ='Eks 6'!A2 -> Indberetning på en konto eller ordning med 1 kontohaver (indlænding, person), med kontotype 25 (PensionKapitalværdi skal sættes til 0). Kontoen er oprettet i kalenderåret
A9: ='Eks 7'!A1 -> Eksempel 7 | B9: ='Eks 7'!A2 -> Indberetning på en konto eller ordning med 1 kontohaver (indlænding, person), med kontoskift fra kontotype 23 til kontotye 22
A10: ='Eks 8'!A1 -> Eksempel 8 | B10: ='Eks 8'!A2 -> Indberetning på en konto eller ordning med 2 kontohaver (indlændinge, person og Irrelevant kontohaver (fx diplomat), med kontotype 22
A11: ='Eks 9'!A1 -> Eksempel 9 | B11: ='Eks 9'!A2 -> Indberetning på en konto eller ordning med 1 kontohaver (indlænding, person), med kontotype 22. Kontoen er ophørt i kalenderåret
A12: ='Eks 10'!A1 -> Eksempel 10 | B12: ='Eks 10'!A2 -> Indberetning på en konto eller ordning med 3 kontohaver (indlændinge, person) med kontotype 22.
A13: ='Eks 11'!A1 -> Eksempel 11 | B13: ='Eks 11'!A2 -> Indberetning på en konto eller ordning med 1 kontohaver (udlænding, person) med kontotype 22, med fødselsinformation. KontohaverIdentifikationMulig = false
A14: ='Eks 12'!A1 -> Eksempel 12 | B14: ='Eks 12'!A2 -> Indberetning på en konto eller ordning med 1 kontohaver (udlænding, person) med kontotype 22, uden Tinnr. og fødselsinformation. KontohaverIdentifikationMulig = false
A15: ='Eks 13'!A1 -> Eksempel 13 | B15: ='Eks 13'!A2 -> Indberetning på en konto eller ordning med 2 kontohaver (indlændinge, personer), med kontotype 22
A16: ='Eks 14'!A1 -> Eksempel 14 | B16: ='Eks 14'!A2 -> Indberetning på en konto eller ordning med 1 kontohaver (indlændinge, person), der dør 31/7 2026, med kontotype 22. Der er to arvinger, hvor der ikke findes data på den ene arving
A17: ='Eks 15'!A1 -> Eksempel 15 | B17: ='Eks 15'!A2 -> Indberetning på en konto eller ordning med 1 kontohaver (indlænding, virksomhed), med kontotype 25 (PensionKapitalværdi skal sættes til 0)
A18: ='Eks 16'!A1 -> Eksempel 16 | B18: ='Eks 16'!A2 -> Indberetning på en konto eller ordning med 1 kontohaver (udlænding, person) med kontotype 22, uden Cpr-nr., Tinnr. og fødselsinformation. KontohaverIdentifikationMulig = false
A19: ='Eks 17'!A1 -> Eksempel 17 | B19: ='Eks 17'!A2 -> Indberetning på en konto eller ordning med 1 kontohaver (udlænding, person) med kontotype 22, uden Tinnr. og fødselsinformation. KontohaverIdentifikationMulig = false
A20: ='Eks 18'!A1 -> Eksempel 18 | B20: ='Eks 18'!A2 -> Indberetning på en konto eller en ordning (kontotype 24), hvor kontoen er oprettet 1/10 2019. Der sker skift af kontohaver (arbejdsgiver/modtager) pr. 1/1 2026
A21: ='Eks 19'!A1 -> Eksempel 19 | B21: ='Eks 19'!A2 -> Indberetning på en konto eller en ordning (kontotype 25), hvor der sker skift af kontohaver (arbejdsgiver/modtager) i løbet af året. Skiftet sker fra cvr.nr 00000000 til cvr.nr 11111111. Kontostart 1/10-2016
A22: ='Eks 20'!A1 -> Eksempel 20 | B22: ='Eks 20'!A2 -> Indberetning på en konto eller en ordning med 2 kontohavere med kontotype 22. En kontohaver er indlænding person og den anden kontohaver er ukendt
A23: ='Eks 21'!A1 -> Eksempel 21 | B23: ='Eks 21'!A2 -> Indberetning på en konto eller ordning med 1 kontohaver (indlændinge, person). Et indskudt beløb på en pensionsordning, som er foretaget i indkomståret, er tilbagebetalt i perioden 1. januar til 19 januar i året efter indbetalingsåret. (PBL §22 E) Det tilbagebetalte beløb skal indberettes i feltet PensionKapitalVærdi med Kontotype 5. PensionsordningBeløb skal altid indberettes med 0 kr., når I anvender KontoTypeKode 5.
A24: ='Eks 22'!A1 -> Eksempel 22 | B24: ='Eks 22'!A2 -> Indberetning på en konto eller en ordning med 3 kontohavere med kontotype 22. En kontohaver er indlænding person og 2 kontohavere er ukendt. Det er vigtigt at medtage alle kontohavere, også selvom flere af kontohaverne er ukendt.
A25: ='Eks 23'!A1 -> Eksempel 23 | B25: ='Eks 23'!A2 -> Indberetning på en konto eller ordning med 1 kontohaver (udlænding, virksomhed) med Tinnr., med kontotype 24 (PensionKapitalværdi skal sættes til 0). KontohaverIdentifikationMulig = true
A26: ='Eks 24'!A1 -> Eksempel 24 | B26: ='Eks 24'!A2 -> Indberetning på en konto eller ordning med 1 kontohaver (udlænding, virksomhed) uden Tinnr., med kontotype 24 (PensionKapitalværdi skal sættes til 0). KontohaverIdentifikationMulig = false
A27: ='Eks 26'!A1 -> Eksempel 26 | B27: ='Eks 26'!A2 -> Indberetning på en konto eller ordning med 1 kontohaver (udlænding, person) med kontotype 22, hvor I er blevet oplyst fra CPR-registreret at kontohaveren er udvandret, men ikke har kendskab om bopælslandet og adressen. Landekode skal udfyldes med DK, og kontohaveridentifikationmulig med false.
A28: ='Eks 25'!A1 -> Eksempel 25 | B28: ='Eks 25'!A2 -> Indberetning på en konto eller ordning med 1 kontohaver (udlænding, virksomhed) uden Tinnr. og adresseoplysninger, med kontotype 24 og ingen oplysninger på administrator for virksomheden (formand). (PensionKapitalværdi skal sættes til 0). KontohaverIdentifikationMulig = false
A29: ='Eks 27'!A1 -> Eksempel 27 | B29: ='Eks 27'!A2 -> Rettelse til eksempel 1 (PensionsordningBeløb ændres til 2.000 kr.). Rettelsen kan kun udføres på den gældende indberetning for KontoID "Pensiondiverse-Eks_01". Man skal altid udfylde det tidligere IndberetningID for den gældende indberetning under RettelseID (række 8)
A30: ='Eks 28'!A1 -> Eksempel 28 | B30: ='Eks 28'!A2 -> Invalidering af eksempel 1 (gældende indberetning). Invalidering kan kun udføres på den gældende indberetning for KontoID "Pensiondiverse-Eks_01". Man skal altid udfylde det tidligere IndberetningID for den gældende indberetning under RettelseID (række 8)
A31: ='Eks 29'!A1 -> Eksempel 29 | B31: ='Eks 29'!A2 -> Invalidering af ikke gældende indberetning (FejlFormat eller FejlIndberetning). Invalidering af KontoID "Pensiondiverse-Eks_25" som tidligere er indleveret.

Sheet Eks 1
A1: Eksempel 1
A2: Indberetning på en konto eller ordning med 1 kontohaver (indlændinge, person), med kontotype 22
A3: Node | B3: Værdi | C3: Xpath
A4: Indkomstår | B4: 2026 | C4: RenteIndberetningPensiondiverseStruktur/Indberetningsperiode/
A5: VirksomhedSENummer | B5: 12345678 | C5: RenteIndberetningPensiondiverseStruktur/Indberetningspligtig/
A6: KontoID | B6: Pensiondiverse-Eks_01 | C6: RenteIndberetningPensiondiverseStruktur/
A7: IndberetningID | B7: 33921553-7fce-7cec-bf7b-e7c861940601 | C7: RenteIndberetningPensiondiverseStruktur/IndberetningValg/RetbarKontoOplysninger/IndberetningIdentifikatorStruktur/
A8: PensionPoliceNummer | B8: 12341234567890 | C8: RenteIndberetningPensiondiverseStruktur/IndberetningValg/RetbarKontoOplysninger/KontoDetaljer/
A9: KontoStartDato | B9: 2001-05-01 | C9: RenteIndberetningPensiondiverseStruktur/IndberetningValg/RetbarKontoOplysninger/KontoDetaljer/
A10: PensionsordningBeløb | B10: 203,47 | C10: RenteIndberetningPensiondiverseStruktur/IndberetningValg/RetbarKontoOplysninger/Beløb/
A11: PensionKapitalværdi | B11: 200535,34 | C11: RenteIndberetningPensiondiverseStruktur/IndberetningValg/RetbarKontoOplysninger/Beløb/
A12: PensionsordningBeløb | B12: 203,47 | C12: RenteIndberetningPensiondiverseStruktur/IndberetningValg/RetbarKontoOplysninger/KontoperiodeÅrsUltimoListe/Kontoperiode/
A13: KontoTypeKode | B13: 22 | C13: RenteIndberetningPensiondiverseStruktur/IndberetningValg/RetbarKontoOplysninger/KontoperiodeÅrsUltimoListe/Kontoperiode/
A14: PersonCPRNummer | B14: 1201280008 | C14: RenteIndberetningPensiondiverseStruktur/IndberetningValg/RetbarKontoOplysninger/KontoperiodeÅrsUltimoListe/Kontoperiode/KontohaverListe/KontohaverOplysninger/KontohaverValg/IndlændingValg/Person/
A15: VirksomhedFormandAdministrator | B15: false | C15: RenteIndberetningPensiondiverseStruktur/IndberetningValg/RetbarKontoOplysninger/KontoperiodeÅrsUltimoListe/Kontoperiode/KontohaverListe/KontohaverOplysninger/KontohaverValg/IndlændingValg/Person/

Sheet Eks 2
A1: Eksempel 2
A2: Indberetning på en konto eller ordning med 1 kontohaver (udlændinge, person) med Tin og CPR nr., med kontotype 23. KontohaverIdentifikationMulig = true
A3: Node | B3: Værdi | C3: Xpath
A4: Indkomstår | B4: 2026 | C4: RenteIndberetningPensiondiverseStruktur/Indberetningsperiode/
A5: VirksomhedSENummer | B5: 12345678 | C5: RenteIndberetningPensiondiverseStruktur/Indberetningspligtig/
A6: KontoID | B6: Pensiondiverse-Eks_02 | C6: RenteIndberetningPensiondiverseStruktur/
A7: IndberetningID | B7: 33921553-7fce-7cec-bf7b-e7c861940602 | C7: RenteIndberetningPensiondiverseStruktur/IndberetningValg/RetbarKontoOplysninger/IndberetningIdentifikatorStruktur/
A8: PensionPoliceNummer | B8: 12341234567890 | C8: RenteIndberetningPensiondiverseStruktur/IndberetningValg/RetbarKontoOplysninger/KontoDetaljer/
A9: KontoStartDato | B9: 2016-07-01 | C9: RenteIndberetningPensiondiverseStruktur/IndberetningValg/RetbarKontoOplysninger/KontoDetaljer/
A10: PensionsordningBeløb | B10: 203,47 | C10: RenteIndberetningPensiondiverseStruktur/IndberetningValg/RetbarKontoOplysninger/Beløb/
A11: PensionKapitalværdi | B11: 200535,34 | C11: RenteIndberetningPensiondiverseStruktur/IndberetningValg/RetbarKontoOplysninger/Beløb/
A12: PensionsordningBeløb | B12: 203,47 | C12: RenteIndberetningPensiondiverseStruktur/IndberetningValg/RetbarKontoOplysninger/KontoperiodeÅrsUltimoListe/Kontoperiode/
A13: KontoTypeKode | B13: 23 | C13: RenteIndberetningPensiondiverseStruktur/IndberetningValg/RetbarKontoOplysninger/KontoperiodeÅrsUltimoListe/Kontoperiode/
A14: PersonCPRNummer | B14: 1201280008 | C14: RenteIndberetningPensiondiverseStruktur/IndberetningValg/RetbarKontoOplysninger/KontoperiodeÅrsUltimoListe/Kontoperiode/KontohaverListe/KontohaverOplysninger/KontohaverValg/ValutaudlændingPerson/
... A24: KontohaverIdentifikationMulig | B24: true | C24: RenteIndberetningPensiondiverseStruktur/IndberetningValg/RetbarKontoOplysninger/KontoperiodeÅrsUltimoListe/Kontoperiode/KontohaverListe/KontohaverOplysninger/KontohaverValg/ValutaudlændingPerson/

Sheet Eks 3
A1: Eksempel 3
A2: Indberetning på en konto eller ordning med 1 kontohaver (indlænding, virksomhed) med kontotype 24 (udbetaling/tilbagebetaling til en arbejdsgiver). (PensionKapitalværdi skal sættes til 0). Kontostart 1/5 2001.
A3: Node | B3: Værdi | C3: Xpath
A4: Indkomstår | B4: 2026 | C4: RenteIndberetningPensiondiverseStruktur/Indberetningsperiode/
A5: VirksomhedSENummer | B5: 12345678 | C5: RenteIndberetningPensiondiverseStruktur/Indberetningspligtig/
A6: KontoID | B6: Pensiondiverse-Eks_03 | C6: RenteIndberetningPensiondiverseStruktur/
A7: IndberetningID | B7: 33921553-7fce-7cec-bf7b-e7c861940603 | C7: RenteIndberetningPensiondiverseStruktur/IndberetningValg/RetbarKontoOplysninger/IndberetningIdentifikatorStruktur/
A8: PensionPoliceNummer | B8: 12341234567890 | C8: RenteIndberetningPensiondiverseStruktur/IndberetningValg/RetbarKontoOplysninger/KontoDetaljer/
A9: KontoStartDato | B9: 2001-05-01 | C9: RenteIndberetningPensiondiverseStruktur/IndberetningValg/RetbarKontoOplysninger/KontoDetaljer/
A10: PensionsordningBeløb | B10: 203,47 | C10: RenteIndberetningPensiondiverseStruktur/IndberetningValg/RetbarKontoOplysninger/Beløb/
A11: PensionKapitalværdi | B11: 0 | C11: RenteIndberetningPensiondiverseStruktur/IndberetningValg/RetbarKontoOplysninger/Beløb/
A12: PensionsordningBeløb | B12: 203,47 | C12: RenteIndberetningPensiondiverseStruktur/IndberetningValg/RetbarKontoOplysninger/KontoperiodeÅrsUltimoListe/Kontoperiode/
A13: KontoTypeKode | B13: 24 | C13: RenteIndberetningPensiondiverseStruktur/IndberetningValg/RetbarKontoOplysninger/KontoperiodeÅrsUltimoListe/Kontoperiode/
A14: VirksomhedSENummer | B14: 11111111 | C14: RenteIndberetningPensiondiverseStruktur/IndberetningValg/RetbarKontoOplysninger/KontoperiodeÅrsUltimoListe/Kontoperiode/KontohaverListe/KontohaverOplysninger/KontohaverValg/IndlændingValg/

Sheet Eks 4
A1: Eksempel 4
A2: Indberetning på en konto eller ordning med 1 kontohaver (indlænding, virksomhed), med kontotype 24 (PensionKapitalværdi skal sættes til 0). Kontoen er oprettet i kalenderåret
A3: Node | B3: Værdi | C3: Xpath
A4: Indkomstår | B4: 2026 | C4: RenteIndberetningPensiondiverseStruktur/Indberetningsperiode/
A5: VirksomhedSENummer | B5: 12345678 | C5: RenteIndberetningPensiondiverseStruktur/Indberetningspligtig/
A6: KontoID | B6: Pensiondiverse-Eks_04 | C6: RenteIndberetningPensiondiverseStruktur/
A7: IndberetningID | B7: 33921553-7fce-7cec-bf7b-e7c861940604 | C7: RenteIndberetningPensiondiverseStruktur/IndberetningValg/RetbarKontoOplysninger/IndberetningIdentifikatorStruktur/
A8: PensionPoliceNummer | B8: 12341234567890 | C8: RenteIndberetningPensiondiverseStruktur/IndberetningValg/RetbarKontoOplysninger/KontoDetaljer/
A9: KontoStartDato | B9: 2026-02-01 | C9: RenteIndberetningPensiondiverseStruktur/IndberetningValg/RetbarKontoOplysninger/KontoDetaljer/
A10: PensionsordningBeløb | B10: 100 | C10: RenteIndberetningPensiondiverseStruktur/IndberetningValg/RetbarKontoOplysninger/Beløb/
A11: PensionKapitalværdi | B11: 0 | C11: RenteIndberetningPensiondiverseStruktur/IndberetningValg/RetbarKontoOplysninger/Beløb/
A12: PensionsordningBeløb | B12: 100 | C12: RenteIndberetningPensiondiverseStruktur/IndberetningValg/RetbarKontoOplysninger/KontoperiodeÅrsUltimoListe/Kontoperiode/
A13: KontoTypeKode | B13: 24 | C13: RenteIndberetningPensiondiverseStruktur/IndberetningValg/RetbarKontoOplysninger/KontoperiodeÅrsUltimoListe/Kontoperiode/
A14: VirksomhedSENummer | B14: 11111111 | C14: RenteIndberetningPensiondiverseStruktur/IndberetningValg/RetbarKontoOplysninger/KontoperiodeÅrsUltimoListe/Kontoperiode/KontohaverListe/KontohaverOplysninger/KontohaverValg/IndlændingValg/

Sheet Eks 5
A1: Eksempel 5
A2: Indberetning på en konto eller ordning med 1 kontohaver (indlænding, person), med kontotype 25 (PensionKapitalværdi skal sættes til 0). Kontostart 1/5 2001
A3: Node | B3: Værdi | C3: Xpath
A4: Indkomstår | B4: 2026 | C4: RenteIndberetningPensiondiverseStruktur/Indberetningsperiode/
A5: VirksomhedSENummer | B5: 12345678 | C5: RenteIndberetningPensiondiverseStruktur/Indberetningspligtig/
A6: KontoID | B6: Pensiondiverse-Eks_05 | C6: RenteIndberetningPensiondiverseStruktur/
A7: IndberetningID | B7: 33921553-7fce-7cec-bf7b-e7c861940605 | C7: RenteIndberetningPensiondiverseStruktur/IndberetningValg/RetbarKontoOplysninger/IndberetningIdentifikatorStruktur/
A8: PensionPoliceNummer | B8: 12341234567890 | C8: RenteIndberetningPensiondiverseStruktur/IndberetningValg/RetbarKontoOplysninger/KontoDetaljer/
A9: KontoStartDato | B9: 2001-05-01 | C9: RenteIndberetningPensiondiverseStruktur/IndberetningValg/RetbarKontoOplysninger/KontoDetaljer/
A10: PensionsordningBeløb | B10: 100 | C10: RenteIndberetningPensiondiverseStruktur/IndberetningValg/RetbarKontoOplysninger/Beløb/
A11: PensionKapitalværdi | B11: 0 | C11: RenteIndberetningPensiondiverseStruktur/IndberetningValg/RetbarKontoOplysninger/Beløb/
A12: PensionsordningBeløb | B12: 100 | C12: RenteIndberetningPensiondiverseStruktur/IndberetningValg/RetbarKontoOplysninger/KontoperiodeÅrsUltimoListe/Kontoperiode/
A13: KontoTypeKode | B13: 25 | C13: RenteIndberetningPensiondiverseStruktur/IndberetningValg/RetbarKontoOplysninger/KontoperiodeÅrsUltimoListe/Kontoperiode/
A14: PersonCPRNummer | B14: 1201280008 | C14: RenteIndberetningPensiondiverseStruktur/IndberetningValg/RetbarKontoOplysninger/KontoperiodeÅrsUltimoListe/Kontoperiode/KontohaverListe/KontohaverOplysninger/KontohaverValg/IndlændingValg/Person/
A15: VirksomhedFormandAdministrator | B15: false | C15: RenteIndberetningPensiondiverseStruktur/IndberetningValg/RetbarKontoOplysninger/KontoperiodeÅrsUltimoListe/Kontoperiode/KontohaverListe/KontohaverOplysninger/KontohaverValg/IndlændingValg/Person/

Sheet Eks 6
A1: Eksempel 6
A2: Indberetning på en konto eller ordning med 1 kontohaver (indlænding, person), med kontotype 25 (PensionKapitalværdi skal sættes til 0). Kontoen er oprettet i kalenderåret
A3: Node | B3: Værdi | C3: Xpath
A4: Indkomstår | B4: 2026 | C4: RenteIndberetningPensiondiverseStruktur/Indberetningsperiode/
A5: VirksomhedSENummer | B5: 12345678 | C5: RenteIndberetningPensiondiverseStruktur/Indberetningspligtig/
A6: KontoID | B6: Pensiondiverse-Eks_06 | C6: RenteIndberetningPensiondiverseStruktur/
A7: IndberetningID | B7: 33921553-7fce-7cec-bf7b-e7c861940606 | C7: RenteIndberetningPensiondiverseStruktur/IndberetningValg/RetbarKontoOplysninger/IndberetningIdentifikatorStruktur/
A8: PensionPoliceNummer | B8: 12341234567890 | C8: RenteIndberetningPensiondiverseStruktur/IndberetningValg/RetbarKontoOplysninger/KontoDetaljer/
A9: KontoStartDato | B9: 2026-06-01 | C9: RenteIndberetningPensiondiverseStruktur/IndberetningValg/RetbarKontoOplysninger/KontoDetaljer/
A10: PensionsordningBeløb | B10: 100 | C10: RenteIndberetningPensiondiverseStruktur/IndberetningValg/RetbarKontoOplysninger/Beløb/
A11: PensionKapitalværdi | B11: 0 | C11: RenteIndberetningPensiondiverseStruktur/IndberetningValg/RetbarKontoOplysninger/Beløb/
A12: PensionsordningBeløb | B12: 100 | C12: RenteIndberetningPensiondiverseStruktur/IndberetningValg/RetbarKontoOplysninger/KontoperiodeÅrsUltimoListe/Kontoperiode/
A13: KontoTypeKode | B13: 25 | C13: RenteIndberetningPensiondiverseStruktur/IndberetningValg/RetbarKontoOplysninger/KontoperiodeÅrsUltimoListe/Kontoperiode/
A14: PersonCPRNummer | B14: 1201280008 | C14: RenteIndberetningPensiondiverseStruktur/IndberetningValg/RetbarKontoOplysninger/KontoperiodeÅrsUltimoListe/Kontoperiode/KontohaverListe/KontohaverOplysninger/KontohaverValg/IndlændingValg/Person/
A15: VirksomhedFormandAdministrator | B15: false | C15: RenteIndberetningPensiondiverseStruktur/IndberetningValg/RetbarKontoOplysninger/KontoperiodeÅrsUltimoListe/Kontoperiode/KontohaverListe/KontohaverOplysninger/KontohaverValg/IndlændingValg/Person/

Sheet Eks 7
A1: Eksempel 7
A2: Indberetning på en konto eller ordning med 1 kontohaver (indlænding, person), med kontoskift fra kontotype 23 til kontotye 22
A3: Node | B3: Værdi | C3: Xpath
A4: Indkomstår | B4: 2026 | C4: RenteIndberetningPensiondiverseStruktur/Indberetningsperiode/
A5: VirksomhedSENummer | B5: 12345678 | C5: RenteIndberetningPensiondiverseStruktur/Indberetningspligtig/
A6: KontoID | B6: Pensiondiverse-Eks_07 | C6: RenteIndberetningPensiondiverseStruktur/
A7: IndberetningID | B7: 33921553-7fce-7cec-bf7b-e7c861940607 | C7: RenteIndberetningPensiondiverseStruktur/IndberetningValg/RetbarKontoOplysninger/IndberetningIdentifikatorStruktur/
A8: PensionPoliceNummer | B8: 12341234567890 | C8: RenteIndberetningPensiondiverseStruktur/IndberetningValg/RetbarKontoOplysninger/KontoDetaljer/
A9: KontoStartDato | B9: 2001-05-01 | C9: RenteIndberetningPensiondiverseStruktur/IndberetningValg/RetbarKontoOplysninger/KontoDetaljer/
A10: PensionsordningBeløb | B10: 150 | C10: RenteIndberetningPensiondiverseStruktur/IndberetningValg/RetbarKontoOplysninger/Beløb/
A11: PensionKapitalværdi | B11: 40000 | C11: RenteIndberetningPensiondiverseStruktur/IndberetningValg/RetbarKontoOplysninger/Beløb/
A12: PensionsordningBeløb | B12: 100 | C12: RenteIndberetningPensiondiverseStruktur/IndberetningValg/RetbarKontoOplysninger/KontoperiodeÅrsUltimoListe/Kontoperiode[position()=2]/
A13: KontoperiodeOphørDato | B13: 2026-05-31 | C13: RenteIndberetningPensiondiverseStruktur/IndberetningValg/RetbarKontoOplysninger/KontoperiodeÅrsUltimoListe/Kontoperiode[position()=1]/
A14: KontoTypeKode | B14: 23 | C14: RenteIndberetningPensiondiverseStruktur/IndberetningValg/RetbarKontoOplysninger/KontoperiodeÅrsUltimoListe/Kontoperiode[position()=1]/
... A21: VirksomhedFormandAdministrator | B21: false | C21: RenteIndberetningPensiondiverseStruktur/IndberetningValg/RetbarKontoOplysninger/KontoperiodeÅrsUltimoListe/Kontoperiode[position()=2]/KontohaverListe/KontohaverOplysninger/KontohaverValg/IndlændingValg/Person/

Sheet Eks 8
A1: Eksempel 8
A2: Indberetning på en konto eller ordning med 2 kontohaver (indlændinge, person og Irrelevant kontohaver (fx diplomat), med kontotype 22
A3: Node | B3: Værdi | C3: Xpath
A4: Indkomstår | B4: 2026 | C4: RenteIndberetningPensiondiverseStruktur/Indberetningsperiode/
A5: VirksomhedSENummer | B5: 12345678 | C5: RenteIndberetningPensiondiverseStruktur/Indberetningspligtig/
A6: KontoID | B6: Pensiondiverse-Eks_08 | C6: RenteIndberetningPensiondiverseStruktur/
A7: IndberetningID | B7: 33921553-7fce-7cec-bf7b-e7c861940608 | C7: RenteIndberetningPensiondiverseStruktur/IndberetningValg/RetbarKontoOplysninger/IndberetningIdentifikatorStruktur/
A8: PensionPoliceNummer | B8: 12341234567890 | C8: RenteIndberetningPensiondiverseStruktur/IndberetningValg/RetbarKontoOplysninger/KontoDetaljer/
A9: KontoStartDato | B9: 2001-05-01 | C9: RenteIndberetningPensiondiverseStruktur/IndberetningValg/RetbarKontoOplysninger/KontoDetaljer/
A10: PensionsordningBeløb | B10: 100 | C10: RenteIndberetningPensiondiverseStruktur/IndberetningValg/RetbarKontoOplysninger/Beløb/
A11: PensionKapitalværdi | B11: 40000 | C11: RenteIndberetningPensiondiverseStruktur/IndberetningValg/RetbarKontoOplysninger/Beløb/
A12: PensionsordningBeløb | B12: 100 | C12: RenteIndberetningPensiondiverseStruktur/IndberetningValg/RetbarKontoOplysninger/KontoperiodeÅrsUltimoListe/Kontoperiode/
A13: KontoTypeKode | B13: 22 | C13: RenteIndberetningPensiondiverseStruktur/IndberetningValg/RetbarKontoOplysninger/KontoperiodeÅrsUltimoListe/Kontoperiode/
A14: PersonCPRNummer | B14: 1201280008 | C14: RenteIndberetningPensiondiverseStruktur/IndberetningValg/RetbarKontoOplysninger/KontoperiodeÅrsUltimoListe/Kontoperiode/KontohaverListe/KontohaverOplysninger[position()=1]/KontohaverValg/IndlændingValg/Person/
A15: VirksomhedFormandAdministrator | B15: false | C15: RenteIndberetningPensiondiverseStruktur/IndberetningValg/RetbarKontoOplysninger/KontoperiodeÅrsUltimoListe/Kontoperiode/KontohaverListe/KontohaverOplysninger[position()=1]/KontohaverValg/IndlændingValg/Person/
A16: KontohaverIrrelevant | C16: RenteIndberetningPensiondiverseStruktur/IndberetningValg/RetbarKontoOplysninger/KontoperiodeÅrsUltimoListe/Kontoperiode/KontohaverListe/KontohaverOplysninger[position()=2]/KontohaverValg/

Sheet Eks 9
A1: Eksempel 9
A2: Indberetning på en konto eller ordning med 1 kontohaver (indlænding, person), med kontotype 22. Kontoen er ophørt i kalenderåret
A3: Node | B3: Værdi | C3: Xpath
A4: Indkomstår | B4: 2026 | C4: RenteIndberetningPensiondiverseStruktur/Indberetningsperiode/
A5: VirksomhedSENummer | B5: 12345678 | C5: RenteIndberetningPensiondiverseStruktur/Indberetningspligtig/
A6: KontoID | B6: Pensiondiverse-Eks_09 | C6: RenteIndberetningPensiondiverseStruktur/
A7: IndberetningID | B7: 33921553-7fce-7cec-bf7b-e7c861940609 | C7: RenteIndberetningPensiondiverseStruktur/IndberetningValg/RetbarKontoOplysninger/IndberetningIdentifikatorStruktur/
A8: PensionPoliceNummer | B8: 12341234567890 | C8: RenteIndberetningPensiondiverseStruktur/IndberetningValg/RetbarKontoOplysninger/KontoDetaljer/
A9: KontoStartDato | B9: 2001-05-01 | C9: RenteIndberetningPensiondiverseStruktur/IndberetningValg/RetbarKontoOplysninger/KontoDetaljer/
A10: KontoOphørDato | B10: 2026-10-31 | C10: RenteIndberetningPensiondiverseStruktur/IndberetningValg/RetbarKontoOplysninger/KontoDetaljer/
A11: PensionsordningBeløb | B11: 100 | C11: RenteIndberetningPensiondiverseStruktur/IndberetningValg/RetbarKontoOplysninger/Beløb/
A12: PensionKapitalværdi | B12: 0 | C12: RenteIndberetningPensiondiverseStruktur/IndberetningValg/RetbarKontoOplysninger/Beløb/
A13: PensionsordningBeløb | B13: 100 | C13: RenteIndberetningPensiondiverseStruktur/IndberetningValg/RetbarKontoOplysninger/KontoperiodeÅrsUltimoListe/Kontoperiode/
A14: KontoTypeKode | B14: 22 | C14: RenteIndberetningPensiondiverseStruktur/IndberetningValg/RetbarKontoOplysninger/KontoperiodeÅrsUltimoListe/Kontoperiode/
... A16: VirksomhedFormandAdministrator | B16: false | C16: RenteIndberetningPensiondiverseStruktur/IndberetningValg/RetbarKontoOplysninger/KontoperiodeÅrsUltimoListe/Kontoperiode/KontohaverListe/KontohaverOplysninger/KontohaverValg/IndlændingValg/Person/

Sheet Eks 10
A1: Eksempel 10
A2: Indberetning på en konto eller ordning med 3 kontohaver (indlændinge, person) med kontotype 22.
A3: Node | B3: Værdi | C3: Xpath
A4: Indkomstår | B4: 2026 | C4: RenteIndberetningPensiondiverseStruktur/Indberetningsperiode/
A5: VirksomhedSENummer | B5: 12345678 | C5: RenteIndberetningPensiondiverseStruktur/Indberetningspligtig/
A6: KontoID | B6: Pensiondiverse-Eks_10 | C6: RenteIndberetningPensiondiverseStruktur/
A7: IndberetningID | B7: 33921553-7fce-7cec-bf7b-e7c861940610 | C7: RenteIndberetningPensiondiverseStruktur/IndberetningValg/RetbarKontoOplysninger/IndberetningIdentifikatorStruktur/
A8: PensionPoliceNummer | B8: 12341234567890 | C8: RenteIndberetningPensiondiverseStruktur/IndberetningValg/RetbarKontoOplysninger/KontoDetaljer/
A9: KontoStartDato | B9: 2001-05-01 | C9: RenteIndberetningPensiondiverseStruktur/IndberetningValg/RetbarKontoOplysninger/KontoDetaljer/
A10: PensionsordningBeløb | B10: 100 | C10: RenteIndberetningPensiondiverseStruktur/IndberetningValg/RetbarKontoOplysninger/Beløb/
A11: PensionKapitalværdi | B11: 40000 | C11: RenteIndberetningPensiondiverseStruktur/IndberetningValg/RetbarKontoOplysninger/Beløb/
A12: PensionsordningBeløb | B12: 100 | C12: RenteIndberetningPensiondiverseStruktur/IndberetningValg/RetbarKontoOplysninger/KontoperiodeÅrsUltimoListe/Kontoperiode/
A13: KontoTypeKode | B13: 22 | C13: RenteIndberetningPensiondiverseStruktur/IndberetningValg/RetbarKontoOplysninger/KontoperiodeÅrsUltimoListe/Kontoperiode/
A14: PersonCPRNummer | B14: 1201280008 | C14: RenteIndberetningPensiondiverseStruktur/IndberetningValg/RetbarKontoOplysninger/KontoperiodeÅrsUltimoListe/Kontoperiode/KontohaverListe/KontohaverOplysninger[position()=1]/KontohaverValg/IndlændingValg/Person/
... A19: VirksomhedFormandAdministrator | B19: false | C19: RenteIndberetningPensiondiverseStruktur/IndberetningValg/RetbarKontoOplysninger/KontoperiodeÅrsUltimoListe/Kontoperiode/KontohaverListe/KontohaverOplysninger[position()=3]/KontohaverValg/IndlændingValg/Person/

Sheet Eks 11
A1: Eksempel 11
A2: Indberetning på en konto eller ordning med 1 kontohaver (udlænding, person) med kontotype 22, med fødselsinformation. KontohaverIdentifikationMulig = false
A3: Node | B3: Værdi | C3: Xpath
A4: Indkomstår | B4: 2026 | C4: RenteIndberetningPensiondiverseStruktur/Indberetningsperiode/
A5: VirksomhedSENummer | B5: 12345678 | C5: RenteIndberetningPensiondiverseStruktur/Indberetningspligtig/
A6: KontoID | B6: Pensiondiverse-Eks_11 | C6: RenteIndberetningPensiondiverseStruktur/
A7: IndberetningID | B7: 33921553-7fce-7cec-bf7b-e7c861940611 | C7: RenteIndberetningPensiondiverseStruktur/IndberetningValg/RetbarKontoOplysninger/IndberetningIdentifikatorStruktur/
A8: PensionPoliceNummer | B8: 12341234567890 | C8: RenteIndberetningPensiondiverseStruktur/IndberetningValg/RetbarKontoOplysninger/KontoDetaljer/
A9: KontoStartDato | B9: 2001-05-01 | C9: RenteIndberetningPensiondiverseStruktur/IndberetningValg/RetbarKontoOplysninger/KontoDetaljer/
A10: PensionsordningBeløb | B10: 203,47 | C10: RenteIndberetningPensiondiverseStruktur/IndberetningValg/RetbarKontoOplysninger/Beløb/
A11: PensionKapitalværdi | B11: 200535,34 | C11: RenteIndberetningPensiondiverseStruktur/IndberetningValg/RetbarKontoOplysninger/Beløb/
A12: PensionsordningBeløb | B12: 203,47 | C12: RenteIndberetningPensiondiverseStruktur/IndberetningValg/RetbarKontoOplysninger/KontoperiodeÅrsUltimoListe/Kontoperiode/
A13: KontoTypeKode | B13: 22 | C13: RenteIndberetningPensiondiverseStruktur/IndberetningValg/RetbarKontoOplysninger/KontoperiodeÅrsUltimoListe/Kontoperiode/
A14: PersonCPRNummer | B14: 1201280008 | C14: RenteIndberetningPensiondiverseStruktur/IndberetningValg/RetbarKontoOplysninger/KontoperiodeÅrsUltimoListe/Kontoperiode/KontohaverListe/KontohaverOplysninger/KontohaverValg/ValutaudlændingPerson/
... A25: KontohaverIdentifikationMulig | B25: false | C25: RenteIndberetningPensiondiverseStruktur/IndberetningValg/RetbarKontoOplysninger/KontoperiodeÅrsUltimoListe/Kontoperiode/KontohaverListe/KontohaverOplysninger/KontohaverValg/ValutaudlændingPerson/

Sheet Eks 12
A1: Eksempel 12
A2: Indberetning på en konto eller ordning med 1 kontohaver (udlænding, person) med kontotype 22, uden Tinnr. og fødselsinformation. KontohaverIdentifikationMulig = false
A3: Node | B3: Værdi | C3: Xpath
A4: Indkomstår | B4: 2026 | C4: RenteIndberetningPensiondiverseStruktur/Indberetningsperiode/
A5: VirksomhedSENummer | B5: 12345678 | C5: RenteIndberetningPensiondiverseStruktur/Indberetningspligtig/
A6: KontoID | B6: Pensiondiverse-Eks_12 | C6: RenteIndberetningPensiondiverseStruktur/
A7: IndberetningID | B7: 33921553-7fce-7cec-bf7b-e7c861940612 | C7: RenteIndberetningPensiondiverseStruktur/IndberetningValg/RetbarKontoOplysninger/IndberetningIdentifikatorStruktur/
A8: PensionPoliceNummer | B8: 12341234567890 | C8: RenteIndberetningPensiondiverseStruktur/IndberetningValg/RetbarKontoOplysninger/KontoDetaljer/
A9: KontoStartDato | B9: 2001-05-01 | C9: RenteIndberetningPensiondiverseStruktur/IndberetningValg/RetbarKontoOplysninger/KontoDetaljer/
A10: PensionsordningBeløb | B10: 203,47 | C10: RenteIndberetningPensiondiverseStruktur/IndberetningValg/RetbarKontoOplysninger/Beløb/
A11: PensionKapitalværdi | B11: 200535,34 | C11: RenteIndberetningPensiondiverseStruktur/IndberetningValg/RetbarKontoOplysninger/Beløb/
A12: PensionsordningBeløb | B12: 203,47 | C12: RenteIndberetningPensiondiverseStruktur/IndberetningValg/RetbarKontoOplysninger/KontoperiodeÅrsUltimoListe/Kontoperiode/
A13: KontoTypeKode | B13: 22 | C13: RenteIndberetningPensiondiverseStruktur/IndberetningValg/RetbarKontoOplysninger/KontoperiodeÅrsUltimoListe/Kontoperiode/
A14: PersonCPRNummer | B14: 1201280008 | C14: RenteIndberetningPensiondiverseStruktur/IndberetningValg/RetbarKontoOplysninger/KontoperiodeÅrsUltimoListe/Kontoperiode/KontohaverListe/KontohaverOplysninger/KontohaverValg/ValutaudlændingPerson/
... A22: KontohaverIdentifikationMulig | B22: false | C22: RenteIndberetningPensiondiverseStruktur/IndberetningValg/RetbarKontoOplysninger/KontoperiodeÅrsUltimoListe/Kontoperiode/KontohaverListe/KontohaverOplysninger/KontohaverValg/ValutaudlændingPerson/

Sheet Eks 13
A1: Eksempel 13
A2: Indberetning på en konto eller ordning med 2 kontohaver (indlændinge, personer), med kontotype 22
A3: Node | B3: Værdi | C3: Xpath
A4: Indkomstår | B4: 2026 | C4: RenteIndberetningPensiondiverseStruktur/Indberetningsperiode/
A5: VirksomhedSENummer | B5: 12345678 | C5: RenteIndberetningPensiondiverseStruktur/Indberetningspligtig/
A6: KontoID | B6: Pensiondiverse-Eks_13 | C6: RenteIndberetningPensiondiverseStruktur/
A7: IndberetningID | B7: 33921553-7fce-7cec-bf7b-e7c861940613 | C7: RenteIndberetningPensiondiverseStruktur/IndberetningValg/RetbarKontoOplysninger/IndberetningIdentifikatorStruktur/
A8: PensionPoliceNummer | B8: 12341234567890 | C8: RenteIndberetningPensiondiverseStruktur/IndberetningValg/RetbarKontoOplysninger/KontoDetaljer/
A9: KontoStartDato | B9: 2001-05-01 | C9: RenteIndberetningPensiondiverseStruktur/IndberetningValg/RetbarKontoOplysninger/KontoDetaljer/
A10: PensionsordningBeløb | B10: 100 | C10: RenteIndberetningPensiondiverseStruktur/IndberetningValg/RetbarKontoOplysninger/Beløb/
A11: PensionKapitalværdi | B11: 40000 | C11: RenteIndberetningPensiondiverseStruktur/IndberetningValg/RetbarKontoOplysninger/Beløb/
A12: PensionsordningBeløb | B12: 100 | C12: RenteIndberetningPensiondiverseStruktur/IndberetningValg/RetbarKontoOplysninger/KontoperiodeÅrsUltimoListe/Kontoperiode/
A13: KontoTypeKode | B13: 22 | C13: RenteIndberetningPensiondiverseStruktur/IndberetningValg/RetbarKontoOplysninger/KontoperiodeÅrsUltimoListe/Kontoperiode/
A14: PersonCPRNummer | B14: 1201280008 | C14: RenteIndberetningPensiondiverseStruktur/IndberetningValg/RetbarKontoOplysninger/KontoperiodeÅrsUltimoListe/Kontoperiode/KontohaverListe/KontohaverOplysninger[position()=1]/KontohaverValg/IndlændingValg/Person/
... A17: VirksomhedFormandAdministrator | B17: false | C17: RenteIndberetningPensiondiverseStruktur/IndberetningValg/RetbarKontoOplysninger/KontoperiodeÅrsUltimoListe/Kontoperiode/KontohaverListe/KontohaverOplysninger[position()=2]/KontohaverValg/IndlændingValg/Person/

Sheet Eks 14
A1: Eksempel 14
A2: Indberetning på en konto eller ordning med 1 kontohaver (indlændinge, person), der dør 31/7 2026, med kontotype 22. Der er to arvinger, hvor der ikke findes data på den ene arving
A3: Node | B3: Værdi | C3: Xpath
A4: Indkomstår | B4: 2026 | C4: RenteIndberetningPensiondiverseStruktur/Indberetningsperiode/
A5: VirksomhedSENummer | B5: 12345678 | C5: RenteIndberetningPensiondiverseStruktur/Indberetningspligtig/
A6: KontoID | B6: Pensiondiverse-Eks_14 | C6: RenteIndberetningPensiondiverseStruktur/
A7: IndberetningID | B7: 33921553-7fce-7cec-bf7b-e7c861940614 | C7: RenteIndberetningPensiondiverseStruktur/IndberetningValg/RetbarKontoOplysninger/IndberetningIdentifikatorStruktur/
A8: PensionPoliceNummer | B8: 12341234567890 | C8: RenteIndberetningPensiondiverseStruktur/IndberetningValg/RetbarKontoOplysninger/KontoDetaljer/
A9: KontoStartDato | B9: 2001-05-01 | C9: RenteIndberetningPensiondiverseStruktur/IndberetningValg/RetbarKontoOplysninger/KontoDetaljer/
A10: PensionsordningBeløb | B10: 425,50 | C10: RenteIndberetningPensiondiverseStruktur/IndberetningValg/RetbarKontoOplysninger/Beløb/
A11: PensionKapitalværdi | B11: 200500,50 | C11: RenteIndberetningPensiondiverseStruktur/IndberetningValg/RetbarKontoOplysninger/Beløb/
A12: PensionsordningBeløb | B12: 225,00 | C12: RenteIndberetningPensiondiverseStruktur/IndberetningValg/RetbarKontoOplysninger/KontoperiodeÅrsUltimoListe/Kontoperiode/
A13: KontoperiodeOphørDato | B13: 2026-07-31 | C13: RenteIndberetningPensiondiverseStruktur/IndberetningValg/RetbarKontoOplysninger/KontoperiodeÅrsUltimoListe/Kontoperiode[position()=1]/
A14: KontoTypeKode | B14: 22 | C14: RenteIndberetningPensiondiverseStruktur/IndberetningValg/RetbarKontoOplysninger/KontoperiodeÅrsUltimoListe/Kontoperiode[position()=1]/
... A21: VirksomhedFormandAdministrator | B21: false | C21: RenteIndberetningPensiondiverseStruktur/IndberetningValg/RetbarKontoOplysninger/KontoperiodeÅrsUltimoListe/Kontoperiode[position()=2]/KontohaverListe/KontohaverOplysninger[position()=1]/KontohaverValg/IndlændingValg/Person/
A22: KontohaverUkendt | C22: RenteIndberetningPensiondiverseStruktur/IndberetningValg/RetbarKontoOplysninger/KontoperiodeÅrsUltimoListe/Kontoperiode[position()=2]/KontohaverListe/KontohaverOplysninger[position()=2]/KontohaverValg/IndlændingValg/

Sheet Eks 15
A1: Eksempel 15
A2: Indberetning på en konto eller ordning med 1 kontohaver (indlænding, virksomhed), med kontotype 25 (PensionKapitalværdi skal sættes til 0)
A3: Node | B3: Værdi | C3: Xpath
A4: Indkomstår | B4: 2026 | C4: RenteIndberetningPensiondiverseStruktur/Indberetningsperiode/
A5: VirksomhedSENummer | B5: 12345678 | C5: RenteIndberetningPensiondiverseStruktur/Indberetningspligtig/
A6: KontoID | B6: Pensiondiverse-Eks_15 | C6: RenteIndberetningPensiondiverseStruktur/
A7: IndberetningID | B7: 33921553-7fce-7cec-bf7b-e7c861940615 | C7: RenteIndberetningPensiondiverseStruktur/IndberetningValg/RetbarKontoOplysninger/IndberetningIdentifikatorStruktur/
A8: PensionPoliceNummer | B8: 12341234567890 | C8: RenteIndberetningPensiondiverseStruktur/IndberetningValg/RetbarKontoOplysninger/KontoDetaljer/
A9: KontoStartDato | B9: 2016-10-01 | C9: RenteIndberetningPensiondiverseStruktur/IndberetningValg/RetbarKontoOplysninger/KontoDetaljer/
A10: PensionsordningBeløb | B10: 100 | C10: RenteIndberetningPensiondiverseStruktur/IndberetningValg/RetbarKontoOplysninger/Beløb/
A11: PensionKapitalværdi | B11: 0 | C11: RenteIndberetningPensiondiverseStruktur/IndberetningValg/RetbarKontoOplysninger/Beløb/
A12: PensionsordningBeløb | B12: 100 | C12: RenteIndberetningPensiondiverseStruktur/IndberetningValg/RetbarKontoOplysninger/KontoperiodeÅrsUltimoListe/Kontoperiode/
A13: KontoTypeKode | B13: 25 | C13: RenteIndberetningPensiondiverseStruktur/IndberetningValg/RetbarKontoOplysninger/KontoperiodeÅrsUltimoListe/Kontoperiode/
A14: VirksomhedSENummer | B14: 11111111 | C14: RenteIndberetningPensiondiverseStruktur/IndberetningValg/RetbarKontoOplysninger/KontoperiodeÅrsUltimoListe/Kontoperiode/KontohaverListe/KontohaverOplysninger/KontohaverValg/IndlændingValg/

Sheet Eks 16
A1: Eksempel 16
A2: Indberetning på en konto eller ordning med 1 kontohaver (udlænding, person) med kontotype 22, uden Cpr-nr., Tinnr. og fødselsinformation. KontohaverIdentifikationMulig = false
A3: Node | B3: Værdi | C3: Xpath
A4: Indkomstår | B4: 2026 | C4: RenteIndberetningPensiondiverseStruktur/Indberetningsperiode/
A5: VirksomhedSENummer | B5: 12345678 | C5: RenteIndberetningPensiondiverseStruktur/Indberetningspligtig/
A6: KontoID | B6: Pensiondiverse-Eks_16 | C6: RenteIndberetningPensiondiverseStruktur/
A7: IndberetningID | B7: 33921553-7fce-7cec-bf7b-e7c861940616 | C7: RenteIndberetningPensiondiverseStruktur/IndberetningValg/RetbarKontoOplysninger/IndberetningIdentifikatorStruktur/
A8: PensionPoliceNummer | B8: 12341234567890 | C8: RenteIndberetningPensiondiverseStruktur/IndberetningValg/RetbarKontoOplysninger/KontoDetaljer/
A9: KontoStartDato | B9: 2001-05-01 | C9: RenteIndberetningPensiondiverseStruktur/IndberetningValg/RetbarKontoOplysninger/KontoDetaljer/
A10: PensionsordningBeløb | B10: 203,47 | C10: RenteIndberetningPensiondiverseStruktur/IndberetningValg/RetbarKontoOplysninger/Beløb/
A11: PensionKapitalværdi | B11: 200535,34 | C11: RenteIndberetningPensiondiverseStruktur/IndberetningValg/RetbarKontoOplysninger/Beløb/
A12: PensionsordningBeløb | B12: 203,47 | C12: RenteIndberetningPensiondiverseStruktur/IndberetningValg/RetbarKontoOplysninger/KontoperiodeÅrsUltimoListe/Kontoperiode/
A13: KontoTypeKode | B13: 22 | C13: RenteIndberetningPensiondiverseStruktur/IndberetningValg/RetbarKontoOplysninger/KontoperiodeÅrsUltimoListe/Kontoperiode/
A14: PersonNavnForNavn | B14: Jens | C14: RenteIndberetningPensiondiverseStruktur/IndberetningValg/RetbarKontoOplysninger/KontoperiodeÅrsUltimoListe/Kontoperiode/KontohaverListe/KontohaverOplysninger/KontohaverValg/ValutaudlændingPerson/
... A21: KontohaverIdentifikationMulig | B21: false | C21: RenteIndberetningPensiondiverseStruktur/IndberetningValg/RetbarKontoOplysninger/KontoperiodeÅrsUltimoListe/Kontoperiode/KontohaverListe/KontohaverOplysninger/KontohaverValg/ValutaudlændingPerson/

Sheet Eks 17
A1: Eksempel 17
A2: Indberetning på en konto eller ordning med 1 kontohaver (udlænding, person) med kontotype 22, uden Tinnr. og fødselsinformation. KontohaverIdentifikationMulig = false
A3: Node | B3: Værdi | C3: Xpath
A4: Indkomstår | B4: 2026 | C4: RenteIndberetningPensiondiverseStruktur/Indberetningsperiode/
A5: VirksomhedSENummer | B5: 12345678 | C5: RenteIndberetningPensiondiverseStruktur/Indberetningspligtig/
A6: KontoID | B6: Pensiondiverse-Eks_17 | C6: RenteIndberetningPensiondiverseStruktur/
A7: IndberetningID | B7: 33921553-7fce-7cec-bf7b-e7c861940617 | C7: RenteIndberetningPensiondiverseStruktur/IndberetningValg/RetbarKontoOplysninger/IndberetningIdentifikatorStruktur/
A8: PensionPoliceNummer | B8: 12341234567890 | C8: RenteIndberetningPensiondiverseStruktur/IndberetningValg/RetbarKontoOplysninger/KontoDetaljer/
A9: KontoStartDato | B9: 2016-07-01 | C9: RenteIndberetningPensiondiverseStruktur/IndberetningValg/RetbarKontoOplysninger/KontoDetaljer/
A10: PensionsordningBeløb | B10: 203,47 | C10: RenteIndberetningPensiondiverseStruktur/IndberetningValg/RetbarKontoOplysninger/Beløb/
A11: PensionKapitalværdi | B11: 200535,34 | C11: RenteIndberetningPensiondiverseStruktur/IndberetningValg/RetbarKontoOplysninger/Beløb/
A12: PensionsordningBeløb | B12: 203,47 | C12: RenteIndberetningPensiondiverseStruktur/IndberetningValg/RetbarKontoOplysninger/KontoperiodeÅrsUltimoListe/Kontoperiode/
A13: KontoTypeKode | B13: 22 | C13: RenteIndberetningPensiondiverseStruktur/IndberetningValg/RetbarKontoOplysninger/KontoperiodeÅrsUltimoListe/Kontoperiode/
A14: PersonCPRNummer | B14: 1201280008 | C14: RenteIndberetningPensiondiverseStruktur/IndberetningValg/RetbarKontoOplysninger/KontoperiodeÅrsUltimoListe/Kontoperiode/KontohaverListe/KontohaverOplysninger/KontohaverValg/ValutaudlændingPerson/
... A22: KontohaverIdentifikationMulig | B22: false | C22: RenteIndberetningPensiondiverseStruktur/IndberetningValg/RetbarKontoOplysninger/KontoperiodeÅrsUltimoListe/Kontoperiode/KontohaverListe/KontohaverOplysninger/KontohaverValg/ValutaudlændingPerson/

Sheet Eks 18
A1: Eksempel 18
A2: Indberetning på en konto eller en ordning (kontotype 24), hvor kontoen er oprettet 1/10 2019. Der sker skift af kontohaver (arbejdsgiver/modtager) pr. 1/1 2026
A3: Node | B3: Værdi | C3: Xpath
A4: Indkomstår | B4: 2026 | C4: RenteIndberetningPensiondiverseStruktur/Indberetningsperiode/
A5: VirksomhedSENummer | B5: 12345678 | C5: RenteIndberetningPensiondiverseStruktur/Indberetningspligtig/
A6: KontoID | B6: Pensiondiverse-Eks_18 | C6: RenteIndberetningPensiondiverseStruktur/
A7: IndberetningID | B7: 33921553-7fce-7cec-bf7b-e7c861940618 | C7: RenteIndberetningPensiondiverseStruktur/IndberetningValg/RetbarKontoOplysninger/IndberetningIdentifikatorStruktur/
A8: PensionPoliceNummer | B8: 12341234567890 | C8: RenteIndberetningPensiondiverseStruktur/IndberetningValg/RetbarKontoOplysninger/KontoDetaljer/
A9: KontoStartDato | B9: 2019-10-01 | C9: RenteIndberetningPensiondiverseStruktur/IndberetningValg/RetbarKontoOplysninger/KontoDetaljer/
A10: PensionsordningBeløb | B10: 100,00 | C10: RenteIndberetningPensiondiverseStruktur/IndberetningValg/RetbarKontoOplysninger/Beløb/
A11: PensionKapitalværdi | B11: 0 | C11: RenteIndberetningPensiondiverseStruktur/IndberetningValg/RetbarKontoOplysninger/Beløb/
A12: PensionsordningBeløb | B12: 100,00 | C12: RenteIndberetningPensiondiverseStruktur/IndberetningValg/RetbarKontoOplysninger/KontoperiodeÅrsUltimoListe/Kontoperiode/
A13: KontoperiodeStartDato | B13: 2026-01-01 | C13: RenteIndberetningPensiondiverseStruktur/IndberetningValg/RetbarKontoOplysninger/KontoperiodeÅrsUltimoListe/Kontoperiode/
A14: KontoTypeKode | B14: 24 | C14: RenteIndberetningPensiondiverseStruktur/IndberetningValg/RetbarKontoOplysninger/KontoperiodeÅrsUltimoListe/Kontoperiode/
A15: VirksomhedSENummer | B15: 11111111 | C15: RenteIndberetningPensiondiverseStruktur/IndberetningValg/RetbarKontoOplysninger/KontoperiodeÅrsUltimoListe/Kontoperiode/KontohaverListe/KontohaverOplysninger/KontohaverValg/IndlændingValg/

Sheet Eks 19
A1: Eksempel 19
A2: Indberetning på en konto eller en ordning (kontotype 25), hvor der sker skift af kontohaver (arbejdsgiver/modtager) i løbet af året. Skiftet sker fra cvr.nr 00000000 til cvr.nr 11111111. Kontostart 1/10-2016
A3: Node | B3: Værdi | C3: Xpath
A4: Indkomstår | B4: 2026 | C4: RenteIndberetningPensiondiverseStruktur/Indberetningsperiode/
A5: VirksomhedSENummer | B5: 12345678 | C5: RenteIndberetningPensiondiverseStruktur/Indberetningspligtig/
A6: KontoID | B6: Pensiondiverse-Eks_19 | C6: RenteIndberetningPensiondiverseStruktur/
A7: IndberetningID | B7: 33921553-7fce-7cec-bf7b-e7c861940619 | C7: RenteIndberetningPensiondiverseStruktur/IndberetningValg/RetbarKontoOplysninger/IndberetningIdentifikatorStruktur/
A8: PensionPoliceNummer | B8: 12341234567890 | C8: RenteIndberetningPensiondiverseStruktur/IndberetningValg/RetbarKontoOplysninger/KontoDetaljer/
A9: KontoStartDato | B9: 2016-10-01 | C9: RenteIndberetningPensiondiverseStruktur/IndberetningValg/RetbarKontoOplysninger/KontoDetaljer/
A10: PensionsordningBeløb | B10: 300,50 | C10: RenteIndberetningPensiondiverseStruktur/IndberetningValg/RetbarKontoOplysninger/Beløb/
A11: PensionKapitalværdi | B11: 0 | C11: RenteIndberetningPensiondiverseStruktur/IndberetningValg/RetbarKontoOplysninger/Beløb/
A12: PensionsordningBeløb | B12: 100 | C12: RenteIndberetningPensiondiverseStruktur/IndberetningValg/RetbarKontoOplysninger/KontoperiodeÅrsUltimoListe/Kontoperiode/
A13: KontoperiodeOphørDato | B13: 2026-07-31 | C13: RenteIndberetningPensiondiverseStruktur/IndberetningValg/RetbarKontoOplysninger/KontoperiodeÅrsUltimoListe/Kontoperiode[position()=1]/
A14: KontoTypeKode | B14: 25 | C14: RenteIndberetningPensiondiverseStruktur/IndberetningValg/RetbarKontoOplysninger/KontoperiodeÅrsUltimoListe/Kontoperiode[position()=1]/
... A19: VirksomhedSENummer | B19: 11111111 | C19: RenteIndberetningPensiondiverseStruktur/IndberetningValg/RetbarKontoOplysninger/KontoperiodeÅrsUltimoListe/Kontoperiode[position()=2]/KontohaverListe/KontohaverOplysninger[position()=1]/KontohaverValg/IndlændingValg/Virksomhed/

Sheet Eks 20
A1: Eksempel 20
A2: Indberetning på en konto eller en ordning med 2 kontohavere med kontotype 22. En kontohaver er indlænding person og den anden kontohaver er ukendt
A3: Node | B3: Værdi | C3: Xpath
A4: Indkomstår | B4: 2026 | C4: RenteIndberetningPensiondiverseStruktur/Indberetningsperiode/
A5: VirksomhedSENummer | B5: 12345678 | C5: RenteIndberetningPensiondiverseStruktur/Indberetningspligtig/
A6: KontoID | B6: Pensiondiverse-Eks_20 | C6: RenteIndberetningPensiondiverseStruktur/
A7: IndberetningID | B7: 33921553-7fce-7cec-bf7b-e7c861940620 | C7: RenteIndberetningPensiondiverseStruktur/IndberetningValg/RetbarKontoOplysninger/IndberetningIdentifikatorStruktur/
A8: PensionPoliceNummer | B8: 12341234567890 | C8: RenteIndberetningPensiondiverseStruktur/IndberetningValg/RetbarKontoOplysninger/KontoDetaljer/
A9: KontoStartDato | B9: 2001-05-01 | C9: RenteIndberetningPensiondiverseStruktur/IndberetningValg/RetbarKontoOplysninger/KontoDetaljer/
A10: PensionsordningBeløb | B10: 425,50 | C10: RenteIndberetningPensiondiverseStruktur/IndberetningValg/RetbarKontoOplysninger/Beløb/
A11: PensionKapitalværdi | B11: 200500,50 | C11: RenteIndberetningPensiondiverseStruktur/IndberetningValg/RetbarKontoOplysninger/Beløb/
A12: PensionsordningBeløb | B12: 425,50 | C12: RenteIndberetningPensiondiverseStruktur/IndberetningValg/RetbarKontoOplysninger/KontoperiodeÅrsUltimoListe/Kontoperiode/
A13: KontoTypeKode | B13: 22 | C13: RenteIndberetningPensiondiverseStruktur/IndberetningValg/RetbarKontoOplysninger/KontoperiodeÅrsUltimoListe/Kontoperiode[position()=1]/
A14: PersonCPRNummer | B14: 1201280008 | C14: RenteIndberetningPensiondiverseStruktur/IndberetningValg/RetbarKontoOplysninger/KontoperiodeÅrsUltimoListe/Kontoperiode[position()=1]/KontohaverListe/KontohaverOplysninger/KontohaverValg/IndlændingValg/Person/
A15: VirksomhedFormandAdministrator | B15: false | C15: RenteIndberetningPensiondiverseStruktur/IndberetningValg/RetbarKontoOplysninger/KontoperiodeÅrsUltimoListe/Kontoperiode[position()=1]/KontohaverListe/KontohaverOplysninger/KontohaverValg/IndlændingValg/Person/
A16: KontohaverUkendt | C16: RenteIndberetningPensiondiverseStruktur/IndberetningValg/RetbarKontoOplysninger/KontoperiodeÅrsUltimoListe/Kontoperiode[position()=2]/KontohaverListe/KontohaverOplysninger[position()=2]/KontohaverValg/IndlændingValg/

Sheet Eks 21
A1: Eksempel 21
A2: Indberetning på en konto eller ordning med 1 kontohaver (indlændinge, person). Et indskudt beløb på en pensionsordning, som er foretaget i indkomståret, er tilbagebetalt i perioden 1. januar til 19 januar i året efter indbetalingsåret. (PBL §22 E) Det tilbagebetalte beløb skal indberettes i feltet PensionKapitalVærdi med Kontotype 5. PensionsordningBeløb skal altid indberettes med 0 kr., når I anvender KontoTypeKode 5.
A3: Node | B3: Værdi | C3: Xpath
A4: Indkomstår | B4: 2026 | C4: RenteIndberetningPensiondiverseStruktur/Indberetningsperiode/
A5: VirksomhedSENummer | B5: 12345678 | C5: RenteIndberetningPensiondiverseStruktur/Indberetningspligtig/
A6: KontoID | B6: Pensiondiverse-Eks_21 | C6: RenteIndberetningPensiondiverseStruktur/
A7: IndberetningID | B7: 33921553-7fce-7cec-bf7b-e7c861940621 | C7: RenteIndberetningPensiondiverseStruktur/IndberetningValg/RetbarKontoOplysninger/IndberetningIdentifikatorStruktur/
A8: PensionPoliceNummer | B8: 12341234567890 | C8: RenteIndberetningPensiondiverseStruktur/IndberetningValg/RetbarKontoOplysninger/KontoDetaljer/
A9: KontoStartDato | B9: 2001-05-01 | C9: RenteIndberetningPensiondiverseStruktur/IndberetningValg/RetbarKontoOplysninger/KontoDetaljer/
A10: PensionsordningBeløb | B10: 0 | C10: RenteIndberetningPensiondiverseStruktur/IndberetningValg/RetbarKontoOplysninger/Beløb/
A11: PensionKapitalværdi | B11: 15000,00 | C11: RenteIndberetningPensiondiverseStruktur/IndberetningValg/RetbarKontoOplysninger/Beløb/
A12: PensionsordningBeløb | B12: 0 | C12: RenteIndberetningPensiondiverseStruktur/IndberetningValg/RetbarKontoOplysninger/KontoperiodeÅrsUltimoListe/Kontoperiode/
A13: KontoTypeKode | B13: 5 | C13: RenteIndberetningPensiondiverseStruktur/IndberetningValg/RetbarKontoOplysninger/KontoperiodeÅrsUltimoListe/Kontoperiode/
A14: PersonCPRNummer | B14: 1201280008 | C14: RenteIndberetningPensiondiverseStruktur/IndberetningValg/RetbarKontoOplysninger/KontoperiodeÅrsUltimoListe/Kontoperiode/KontohaverListe/KontohaverOplysninger/KontohaverValg/IndlændingValg/Person/
A15: VirksomhedFormandAdministrator | B15: false | C15: RenteIndberetningPensiondiverseStruktur/IndberetningValg/RetbarKontoOplysninger/KontoperiodeÅrsUltimoListe/Kontoperiode/KontohaverListe/KontohaverOplysninger/KontohaverValg/IndlændingValg/Person/

Sheet Eks 22
A1: Eksempel 22
A2: Indberetning på en konto eller en ordning med 3 kontohavere med kontotype 22. En kontohaver er indlænding person og 2 kontohavere er ukendt. Det er vigtigt at medtage alle kontohavere, også selvom flere af kontohaverne er ukendt.
A3: Node | B3: Værdi | C3: Xpath
A4: Indkomstår | B4: 2026 | C4: RenteIndberetningPensiondiverseStruktur/Indberetningsperiode/
A5: VirksomhedSENummer | B5: 12345678 | C5: RenteIndberetningPensiondiverseStruktur/Indberetningspligtig/
A6: KontoID | B6: Pensiondiverse-Eks_22 | C6: RenteIndberetningPensiondiverseStruktur/
A7: IndberetningID | B7: 33921553-7fce-7cec-bf7b-e7c861940622 | C7: RenteIndberetningPensiondiverseStruktur/IndberetningValg/RetbarKontoOplysninger/IndberetningIdentifikatorStruktur/
A8: PensionPoliceNummer | B8: 12341234567890 | C8: RenteIndberetningPensiondiverseStruktur/IndberetningValg/RetbarKontoOplysninger/KontoDetaljer/
A9: KontoStartDato | B9: 2001-05-01 | C9: RenteIndberetningPensiondiverseStruktur/IndberetningValg/RetbarKontoOplysninger/KontoDetaljer/
A10: PensionsordningBeløb | B10: 425,50 | C10: RenteIndberetningPensiondiverseStruktur/IndberetningValg/RetbarKontoOplysninger/Beløb/
A11: PensionKapitalværdi | B11: 200500,50 | C11: RenteIndberetningPensiondiverseStruktur/IndberetningValg/RetbarKontoOplysninger/Beløb/
A12: PensionsordningBeløb | B12: 425,50 | C12: RenteIndberetningPensiondiverseStruktur/IndberetningValg/RetbarKontoOplysninger/KontoperiodeÅrsUltimoListe/Kontoperiode/
A13: KontoTypeKode | B13: 22 | C13: RenteIndberetningPensiondiverseStruktur/IndberetningValg/RetbarKontoOplysninger/KontoperiodeÅrsUltimoListe/Kontoperiode/
A14: PersonCPRNummer | B14: 1201280008 | C14: RenteIndberetningPensiondiverseStruktur/IndberetningValg/RetbarKontoOplysninger/KontoperiodeÅrsUltimoListe/Kontoperiode/KontohaverListe/KontohaverOplysninger[position()=1]/KontohaverValg/IndlændingValg/Person/
A15: VirksomhedFormandAdministrator | B15: false | C15: RenteIndberetningPensiondiverseStruktur/IndberetningValg/RetbarKontoOplysninger/KontoperiodeÅrsUltimoListe/Kontoperiode/KontohaverListe/KontohaverOplysninger[position()=1]/KontohaverValg/IndlændingValg/Person/
A16: KontohaverUkendt | C16: RenteIndberetningPensiondiverseStruktur/IndberetningValg/RetbarKontoOplysninger/KontoperiodeÅrsUltimoListe/Kontoperiode/KontohaverListe/KontohaverOplysninger[position()=2]/KontohaverValg/IndlændingValg/
A17: KontohaverUkendt | C17: RenteIndberetningPensiondiverseStruktur/IndberetningValg/RetbarKontoOplysninger/KontoperiodeÅrsUltimoListe/Kontoperiode/KontohaverListe/KontohaverOplysninger[position()=3]/KontohaverValg/IndlændingValg/

Sheet Eks 23
A1: Eksempel 23
A2: Indberetning på en konto eller ordning med 1 kontohaver (udlænding, virksomhed) med Tinnr., med kontotype 24 (PensionKapitalværdi skal sættes til 0). KontohaverIdentifikationMulig = true
A3: Indkomstår | B3: 2026 | C3: RenteIndberetningPensiondiverseStruktur/Indberetningsperiode/
A4: VirksomhedSENummer | B4: 12345678 | C4: RenteIndberetningPensiondiverseStruktur/Indberetningspligtig/
A5: KontoID | B5: Pensiondiverse-Eks_23 | C5: RenteIndberetningPensiondiverseStruktur/
A6: IndberetningID | B6: 33921553-7fce-7cec-bf7b-e7c861940623 | C6: RenteIndberetningPensiondiverseStruktur/IndberetningValg/RetbarKontoOplysninger/IndberetningIdentifikatorStruktur/
A7: PensionPoliceNummer | B7: 12341234567890 | C7: RenteIndberetningPensiondiverseStrukturr/IndberetningValg/RetbarKontoOplysninger/KontoDetaljer/
A8: KontoStartDato | B8: 2016-07-01 | C8: RenteIndberetningPensiondiverseStruktur/IndberetningValg/RetbarKontoOplysninger/KontoDetaljer/
A9: PensionsordningBeløb | B9: 500,00 | C9: RenteIndberetningPensiondiverseStruktur/IndberetningValg/RetbarKontoOplysninger/Beløb/
A10: PensionKapitalværdi | B10: 0 | C10: RenteIndberetningPensiondiverseStruktur/IndberetningValg/RetbarKontoOplysninger/Beløb/
A11: PensionsordningBeløb | B11: 500,00 | C11: RenteIndberetningPensiondiverseStruktur/IndberetningValg/RetbarKontoOplysninger/KontoperiodeÅrsUltimoListe/Kontoperiode/
A12: KontoTypeKode | B12: 24 | C12: RenteIndberetningPensiondiverseStruktur/IndberetningValg/RetbarKontoOplysninger/KontoperiodeÅrsUltimoListe/Kontoperiode/
A13: VirksomhedNavnFirmaNavn | B13: Acme inc. | C13: RenteIndberetningPensiondiverseStruktur/IndberetningValg/RetbarKontoOplysninger/KontoperiodeÅrsUltimoListe/Kontoperiode/KontohaverListe/KontohaverOplysninger/KontohaverValg/ValutaudlændingValg/Virksomhed/
A14: LandKode | B14: IE | C14: RenteIndberetningPensiondiverseStruktur/IndberetningValg/RetbarKontoOplysninger/KontoperiodeÅrsUltimoListe/Kontoperiode/KontohaverListe/KontohaverOplysninger/KontohaverValg/ValutaudlændingValg/Virksomhed/IndberetningUdenlandskAdresseStruktur/
... A20: KontohaverIdentifikationMulig | B20: true | C20: RenteIndberetningPensiondiverseStruktur/IndberetningValg/RetbarKontoOplysninger/KontoperiodeÅrsUltimoListe/Kontoperiode/KontohaverListe/KontohaverOplysninger/KontohaverValg/ValutaudlændingValg/Virksomhed/

Sheet Eks 24
A1: Eksempel 24
A2: Indberetning på en konto eller ordning med 1 kontohaver (udlænding, virksomhed) uden Tinnr., med kontotype 24 (PensionKapitalværdi skal sættes til 0). KontohaverIdentifikationMulig = false
A3: Node | B3: Værdi | C3: Xpath
A4: Indkomstår | B4: 2026 | C4: RenteIndberetningPensiondiverseStruktur/Indberetningsperiode/
A5: VirksomhedSENummer | B5: 12345678 | C5: RenteIndberetningPensiondiverseStruktur/Indberetningspligtig/
A6: KontoID | B6: Pensiondiverse-Eks_24 | C6: RenteIndberetningPensiondiverseStruktur/
A7: IndberetningID | B7: 33921553-7fce-7cec-bf7b-e7c861940624 | C7: RenteIndberetningPensiondiverseStruktur/IndberetningValg/RetbarKontoOplysninger/IndberetningIdentifikatorStruktur/
A8: IndlånKontoNummer | B8: 12341234567890 | C8: RenteIndberetningPensiondiverseStruktur/IndberetningValg/RetbarKontoOplysninger/KontoDetaljer/
A9: KontoStartDato | B9: 2001-05-01 | C9: RenteIndberetningPensiondiverseStruktur/IndberetningValg/RetbarKontoOplysninger/KontoDetaljer/
A10: RenteBeløb | B10: 500,00 | C10: RenteIndberetningPensiondiverseStruktur/IndberetningValg/RetbarKontoOplysninger/Beløb/
A11: IndlånKontoIndestående | B11: 0 | C11: RenteIndberetningPensiondiverseStruktur/IndberetningValg/RetbarKontoOplysninger/Beløb/
A12: RenteBeløb | B12: 500,00 | C12: RenteIndberetningPensiondiverseStruktur/IndberetningValg/RetbarKontoOplysninger/KontoperiodeÅrsUltimoListe/Kontoperiode/
A13: KontoTypeKode | B13: 24 | C13: RenteIndberetningPensiondiverseStruktur/IndberetningValg/RetbarKontoOplysninger/KontoperiodeÅrsUltimoListe/Kontoperiode/
A14: VirksomhedNavnFirmaNavn | B14: Acme inc. | C14: RenteIndberetningPensiondiverseStruktur/IndberetningValg/RetbarKontoOplysninger/KontoperiodeÅrsUltimoListe/Kontoperiode/KontohaverListe/KontohaverOplysninger/KontohaverValg/ValutaudlændingValg/Virksomhed/
... A19: KontohaverIdentifikationMulig | B19: false | C19: RenteIndberetningPensiondiverseStruktur/IndberetningValg/RetbarKontoOplysninger/KontoperiodeÅrsUltimoListe/Kontoperiode/KontohaverListe/KontohaverOplysninger/KontohaverValg/ValutaudlændingValg/Virksomhed/

Sheet Eks 25
A1: Eksempel 25
A2: Indberetning på en konto eller ordning med 1 kontohaver (udlænding, virksomhed) uden Tinnr. og adresseoplysninger, med kontotype 24 og ingen oplysninger på administrator for virksomheden (formand). (PensionKapitalværdi skal sættes til 0). KontohaverIdentifikationMulig = false
A3: Node | B3: Værdi | C3: Xpath
A4: Indkomstår | B4: 2026 | C4: RenteIndberetningPensiondiverseStruktur/Indberetningsperiode/
A5: VirksomhedSENummer | B5: 12345678 | C5: RenteIndberetningPensiondiverseStruktur/Indberetningspligtig/
A6: KontoID | B6: Pensiondiverse-Eks_25 | C6: RenteIndberetningPensiondiverseStruktur/
A7: IndberetningID | B7: 33921553-7fce-7cec-bf7b-e7c861940625 | C7: RenteIndberetningPensiondiverseStruktur/IndberetningValg/RetbarKontoOplysninger/IndberetningIdentifikatorStruktur/
A8: IndlånKontoNummer | B8: 12341234567890 | C8: RenteIndberetningPensiondiverseStruktur/IndberetningValg/RetbarKontoOplysninger/KontoDetaljer/
A9: KontoStartDato | B9: 2016-07-01 | C9: RenteIndberetningPensiondiverseStruktur/IndberetningValg/RetbarKontoOplysninger/KontoDetaljer/
A10: RenteBeløb | B10: 500,00 | C10: RenteIndberetningPensiondiverseStruktur/IndberetningValg/RetbarKontoOplysninger/Beløb/
A11: IndlånKontoIndestående | B11: 0 | C11: RenteIndberetningPensiondiverseStruktur/IndberetningValg/RetbarKontoOplysninger/Beløb/
A12: RenteBeløb | B12: 500,00 | C12: RenteIndberetningPensiondiverseStruktur/IndberetningValg/RetbarKontoOplysninger/KontoperiodeÅrsUltimoListe/Kontoperiode/
A13: KontoTypeKode | B13: 13 | C13: RenteIndberetningPensiondiverseStruktur/IndberetningValg/RetbarKontoOplysninger/KontoperiodeÅrsUltimoListe/Kontoperiode/
A14: VirksomhedNavnFirmaNavn | B14: Acme inc. | C14: RenteIndberetningPensiondiverseStruktur/IndberetningValg/RetbarKontoOplysninger/KontoperiodeÅrsUltimoListe/Kontoperiode/KontohaverListe/KontohaverOplysninger/KontohaverValg/ValutaudlændingValg/Virksomhed/
A15: LandKode | B15: IE | C15: RenteIndberetningPensiondiverseStruktur/IndberetningValg/RetbarKontoOplysninger/KontoperiodeÅrsUltimoListe/Kontoperiode/KontohaverListe/KontohaverOplysninger/KontohaverValg/ValutaudlændingValg/Virksomhed/IndberetningUdenlandskAdresseStruktur/
A16: KontohaverIdentifikationMulig | B16: false | C16: RenteIndberetningPensiondiverseStruktur/IndberetningValg/RetbarKontoOplysninger/KontoperiodeÅrsUltimoListe/Kontoperiode/KontohaverListe/KontohaverOplysninger/KontohaverValg/ValutaudlændingValg/Virksomhed/

Sheet Eks 26
A1: Eksempel 26
A2: Indberetning på en konto eller ordning med 1 kontohaver (udlænding, person) med kontotype 22, hvor I er blevet oplyst fra CPR-registreret at kontohaveren er udvandret, men ikke har kendskab om bopælslandet og adressen. Landekode skal udfyldes med DK, og kontohaveridentifikationmulig med false.
A3: Node | B3: Værdi | C3: Xpath
A4: Indkomstår | B4: 2026 | C4: RenteIndberetningPensiondiverseStruktur/Indberetningsperiode/
A5: VirksomhedSENummer | B5: 12345678 | C5: RenteIndberetningPensiondiverseStruktur/Indberetningspligtig/
A6: KontoID | B6: Pensiondiverse-Eks_26 | C6: RenteIndberetningPensiondiverseStruktur/
A7: IndberetningID | B7: 33921553-7fce-7cec-bf7b-e7c861940626 | C7: RenteIndberetningPensiondiverseStruktur/IndberetningValg/RetbarKontoOplysninger/IndberetningIdentifikatorStruktur/
A8: PensionPoliceNummer | B8: 12341234567890 | C8: RenteIndberetningPensiondiverseStruktur/IndberetningValg/RetbarKontoOplysninger/KontoDetaljer/
A9: KontoStartDato | B9: 2016-07-01 | C9: RenteIndberetningPensiondiverseStruktur/IndberetningValg/RetbarKontoOplysninger/KontoDetaljer/
A10: PensionsordningBeløb | B10: 100,00 | C10: RenteIndberetningPensiondiverseStruktur/IndberetningValg/RetbarKontoOplysninger/Beløb/
A11: PensionKapitalværdi | B11: 1000,55 | C11: RenteIndberetningPensiondiverseStruktur/IndberetningValg/RetbarKontoOplysninger/Beløb/
A12: PensionsordningBeløb | B12: 100,00 | C12: RenteIndberetningPensiondiverseStruktur/IndberetningValg/RetbarKontoOplysninger/KontoperiodeÅrsUltimoListe/Kontoperiode/
A13: KontoTypeKode | B13: 22 | C13: RenteIndberetningPensiondiverseStruktur/IndberetningValg/RetbarKontoOplysninger/KontoperiodeÅrsUltimoListe/Kontoperiode/
A14: PersonCPRNummer | B14: 1201280008 | C14: RenteIndberetningPensiondiverseStruktur/IndberetningValg/RetbarKontoOplysninger/KontoperiodeÅrsUltimoListe/Kontoperiode/KontohaverListe/KontohaverOplysninger/KontohaverValg/ValutaudlændingPerson/
... A19: KontohaverIdentifikationMulig | B19: false | C19: RenteIndberetningPensiondiverseStruktur/IndberetningValg/RetbarKontoOplysninger/KontoperiodeÅrsUltimoListe/Kontoperiode/KontohaverListe/KontohaverOplysninger/KontohaverValg/ValutaudlændingPerson/

Sheet Eks 27
A1: Eksempel 27
A2: Rettelse til eksempel 1 (PensionsordningBeløb ændres til 2.000 kr.). Rettelsen kan kun udføres på den gældende indberetning for KontoID "Pensiondiverse-Eks_01". Man skal altid udfylde det tidligere IndberetningID for den gældende indberetning under RettelseID (række 8)
A3: Node | B3: Værdi | C3: Xpath
A4: Indkomstår | B4: 2026 | C4: RenteIndberetningPensiondiverseStruktur/Indberetningsperiode/
A5: VirksomhedSENummer | B5: 12345678 | C5: RenteIndberetningPensiondiverseStruktur/Indberetningspligtig/
A6: KontoID | B6: Pensiondiverse-Eks_01 | C6: RenteIndberetningPensiondiverseStruktur/
A7: IndberetningID | B7: 33921553-7fce-7cec-bf7b-e7c861940627 | C7: RenteIndberetningPensiondiverseStruktur/IndberetningValg/RetbarKontoOplysninger/IndberetningIdentifikatorStruktur/
A8: IndberetningID | B8: 33921553-7fce-7cec-bf7b-e7c861940601 | C8: RenteIndberetningPensiondiverseStruktur/IndberetningValg/RetbarKontoOplysninger/IndberetningIdentifikatorStruktur/RettelseID/
A9: PensionPoliceNummer | B9: 12341234567890 | C9: RenteIndberetningPensiondiverseStruktur/IndberetningValg/RetbarKontoOplysninger/KontoDetaljer/
A10: KontoStartDato | B10: 2001-05-01 | C10: RenteIndberetningPensiondiverseStruktur/IndberetningValg/RetbarKontoOplysninger/KontoDetaljer/
A11: PensionsordningBeløb | B11: 2000 | C11: RenteIndberetningPensiondiverseStruktur/IndberetningValg/RetbarKontoOplysninger/Beløb/
A12: PensionKapitalværdi | B12: 200535,34 | C12: RenteIndberetningPensiondiverseStruktur/IndberetningValg/RetbarKontoOplysninger/Beløb/
A13: PensionsordningBeløb | B13: 2000 | C13: RenteIndberetningPensiondiverseStruktur/IndberetningValg/RetbarKontoOplysninger/KontoperiodeÅrsUltimoListe/Kontoperiode/
A14: KontoTypeKode | B14: 22 | C14: RenteIndberetningPensiondiverseStruktur/IndberetningValg/RetbarKontoOplysninger/KontoperiodeÅrsUltimoListe/Kontoperiode/
... A16: VirksomhedFormandAdministrator | B16: false | C16: RenteIndberetningPensiondiverseStruktur/IndberetningValg/RetbarKontoOplysninger/KontoperiodeÅrsUltimoListe/Kontoperiode/KontohaverListe/KontohaverOplysninger/KontohaverValg/IndlændingValg/Person/

Sheet Eks 28
A1: Eksempel 28
A2: Invalidering af eksempel 1 (gældende indberetning). Invalidering kan kun udføres på den gældende indberetning for KontoID "Pensiondiverse-Eks_01". Man skal altid udfylde det tidligere IndberetningID for den gældende indberetning under RettelseID (række 8)
A3: Node | B3: Værdi | C3: Xpath
A4: Indkomstår | B4: 2026 | C4: RenteIndberetningPensiondiverseStruktur/Indberetningsperiode/
A5: VirksomhedSENummer | B5: 12345678 | C5: RenteIndberetningPensiondiverseStruktur/Indberetningspligtig/
A6: KontoID | B6: Pensiondiverse-Eks_01 | C6: RenteIndberetningPensiondiverseStruktur/
A7: IndberetningID | B7: 33921553-7fce-7cec-bf7b-e7c861940628 | C7: RenteIndberetningPensiondiverseStruktur/IndberetningValg/Invalidering/IndberetningIdentifikatorStruktur/
A8: IndberetningID | B8: 33921553-7fce-7cec-bf7b-e7c861940601 | C8: RenteIndberetningPensiondiverseStruktur/IndberetningValg/Invalidering/IndberetningIdentifikatorStruktur/RettelseID/

Sheet Eks 29
A1: Eksempel 29
A2: Invalidering af ikke gældende indberetning (FejlFormat eller FejlIndberetning). Invalidering af KontoID "Pensiondiverse-Eks_25" som tidligere er indleveret.
A3: Node | B3: Værdi | C3: Xpath
A4: Indkomstår | B4: 2026 | C4: RenteIndberetningPensiondiverseStruktur/Indberetningsperiode/
A5: VirksomhedSENummer | B5: 12345678 | C5: RenteIndberetningPensiondiverseStruktur/Indberetningspligtig/
A6: KontoID | B6: Pensiondiverse-Eks_29 | C6: RenteIndberetningPensiondiverseStruktur/
A7: IndberetningID | B7: 33921553-7fce-7cec-bf7b-e7c861940629 | C7: RenteIndberetningPensiondiverseStruktur/IndberetningValg/Invalidering/IndberetningIdentifikatorStruktur/
