Workbook

Sheet Oversigt
A1: XML eksempler - Oversigt for Udlån, årsindberetning
A2: Nummer | B2: Beskrivelse
A3: ='Eks 1'!A1 -> Eksempel 1 | B3: ='Eks 1'!A2 -> Indberetning til årsultimo på en udlånskonto med 1 låntager (indlændinge, person)
A4: ='Eks 2'!A1 -> Eksempel 2 | B4: ='Eks 2'!A2 -> Indberetning til årsultimo på en udlånskonto med 1 låntager (udlændinge, person) med Tinnr. KontohaverIdentifikationMulig = true
A5: ='Eks 3'!A1 -> Eksempel 3 | B5: ='Eks 3'!A2 -> Indberetning til årsultimo på en udlånskonto med 1 låntager (udlændinge, person), hvor der ikke udstedes Tinnr. Personfødeseldato, Personfødested og Fødestat er kendt. KontohaverIdentifikationMulig = true
A6: ='Eks 4'!A1 -> Eksempel 4 | B6: ='Eks 4'!A2 -> Indberetning til årsultimo på en udlånskonto med 1 låntager (udlænding, person) hvor kun fornavn og efternavn er kendt samt bopælsstat. KontohaverIdentifikationMulig = false
A7: ='Eks 5'!A1 -> Eksempel 5 | B7: ='Eks 5'!A2 -> Indberetning til årsultimo på en udlånskonto med 2 låntagere (udlænding person og udlænding virksomhed), hvor Tinnr. er kendt på person og Tinnr. er ukendt på virksomhed (formand indberettes med Tinnnr.) KontohaverIdentifikationMulig = true
A8: ='Eks 6'!A1 -> Eksempel 6 | B8: ='Eks 6'!A2 -> Indberetning til årsultimo på en udlånskonto med 1 låntager (indlænding, virksomhed)
A9: ='Eks 7'!A1 -> Eksempel 7 | B9: ='Eks 7'!A2 -> Indberetning til årsultimo på en udlånskonto med 1 låntager (udlænding, virksomhed) med Tinnr. KontohaverIdentifikationMulig = true
A10: ='Eks 8'!A1 -> Eksempel 8 | B10: ='Eks 8'!A2 -> Indberetning til årsultimo på en udlånskonto med 1 låntager (udlænding, virksomhed) uden Tinnr. KontohaverIdentifikationMulig = false
A11: ='Eks 9'!A1 -> Eksempel 9 | B11: ='Eks 9'!A2 -> Indberetning til årsultimo på en udlånskonto med 1 låntager (indlænding, person). Kontoen ophører i indkomståret
A12: ='Eks 10'!A1 -> Eksempel 10 | B12: ='Eks 10'!A2 -> Indberetning til årsultimo på en udlånskonto med 2 låntagere (indlændinge, personer), hvoraf den ene udtræder 31/5
A13: ='Eks 11'!A1 -> Eksempel 11 | B13: ='Eks 11'!A2 -> Indberetning til årsultimo på en udlånskonto med 2 låntagere (indlænding person og indlænding virksomhed)
A14: ='Eks 12'!A1 -> Eksempel 12 | B14: ='Eks 12'!A2 -> Indberetning til årsultimo på en udlånskonto med 2 låntagere (indlændinge, personer), hvoraf den ene indtræder 6/3
A15: ='Eks 13'!A1 -> Eksempel 13 | B15: ='Eks 13'!A2 -> Indberetning til årsultimo på en udlånskonto med 3 låntagere (indlændinge, personer), hvoraf den tredje indtræder 1/5 og renterne er tilskrevet hhv. 30/4 og 31/12 med 550 kr. og 2750 kr. dvs. man tilskriver rente i forbindelse med ejerskifte
A16: ='Eks 14'!A1 -> Eksempel 14 | B16: ='Eks 14'!A2 -> Indberetning til årsultimo på en udlånskonto med 2 låntagere (indlændinge, personer), hvoraf den anden indtræder 1/5 renterne er tilskrevet hhv 31/3, 30/6, 30/9 og 31/12 med 4 x 1000 kr.
A17: ='Eks 15'!A1 -> Eksempel 15 | B17: ='Eks 15'!A2 -> Indberetning til årsultimo på en udlånskonto med 1 låntager (indlænding, person). Kontoen er i restance
A18: ='Eks 16'!A1 -> Eksempel 16 | B18: ='Eks 16'!A2 -> Indberetning til årsultimo på en udlånskonto med 1 låntager (indlænding, person). Kontoen er oprettet i indkomståret
A19: ='Eks 17'!A1 -> Eksempel 17 | B19: ='Eks 17'!A2 -> Indberetning til årsultimo på en udlånskonto med 2 låntagere (indlænding person og udlænding person uden TIN-nr., Personfødeseldato, Personfødested og Fødestat). KontohaverIdentifikationMulig = false
A20: ='Eks 18'!A1 -> Eksempel 18 | B20: ='Eks 18'!A2 -> Indberetning til årsultimo på en udlånskonto med 2 låntagere (indlændinge, personer). Kontoen er i restance
A21: ='Eks 19'!A1 -> Eksempel 19 | B21: ='Eks 19'!A2 -> Indberetning til årsultimo på en udlånskonto med 2 låntagere (indlændinge, personer), hvor en af låntagerne har fået en privat delvis eftergivelse
A22: ='Eks 20-01'!A1 -> Eksempel 20-01 | B22: ='Eks 20-01'!A2 -> Indberetning til årsultimo på en udlånskonto med 2 låntagere (indlændinge, personer), hvor en af låntagerne har fået en offentlig eftergivelse. Renten er sat i bero. Der skal laves 2 indberetninger, hvor låntageren uden offentlig gældseftergivelse indberettes i løbenummer 01 (obs - der er solidarisk hæftelse og derfor skal KontohaverIrrelevant indberettes) og låntageren med offentlig gældseftergivelse indberettes i løbenummer 02.
A23: ='Eks 20-02'!A1 -> Eksempel 20-02 | B23: ='Eks 20-02'!A2 -> Indberetning til årsultimo på en udlånskonto med 2 låntagere (indlændinge, personer), hvor en af låntagerne har fået en offentlig eftergivelse. Renten er sat i bero. Der skal laves 2 indberetninger, hvor låntageren uden offentlig gældseftergivelse indberettes i løbenummer 01 og låntageren med offentlig gældseftergivelse indberettes i løbenummer 02.
A24: ='Eks 21'!A1 -> Eksempel 21 | B24: ='Eks 21'!A2 -> Indberetning til årsultimo på en udlånskonto med 5 låntagere (indlændinge, personer)
A25: ='Eks 22'!A1 -> Eksempel 22 | B25: ='Eks 22'!A2 -> Indberetning til årsultimo på en udlånskonto med 3 låntagere (indlændinge, personer)
A26: ='Eks 23'!A1 -> Eksempel 23 | B26: ='Eks 23'!A2 -> Indberetning til årsultimo på en udlånskonto med 1 låntager (indlænding, person), med kontoskift fra kontotype 53 til kontotye 56
A27: ='Eks 24'!A1 -> Eksempel 24 | B27: ='Eks 24'!A2 -> Indberetning til årsultimo på en udlånskonto med 2 låntagere (indlænding person og udlænding person), hvor begge personer har et CPR-nummer og udlænding person har TIN-nr. KontohaverIdentifikationMulig = true
A28: ='Eks 25'!A1 -> Eksempel 25 | B28: ='Eks 25'!A2 -> Indberetning til årsultimo på en udlånskonto med 2 låntagere. En låntager er indlænding person og den anden låntager er ukendt
A29: ='Eks 26'!A1 -> Eksempel 26 | B29: ='Eks 26'!A2 -> Indberetning til årsultimo på en udlånskonto med 2 låntagere. En låntager er indlænding person og den anden låntager er irrelevant
A30: ='Eks 27'!A1 -> Eksempel 27 | B30: ='Eks 27'!A2 -> Indberetning til årsultimo på en udlånskonto med 1 låntager (udlændinge, person) med dansk cpr.nr. og Tinnr. KontohaverIdentifikationMulig = true
A31: ='Eks 28'!A1 -> Eksempel 28 | B31: ='Eks 28'!A2 -> Indberetning til årsultimo på en udlånskonto med en låntager, der er ukendt
A32: ='Eks 29'!A1 -> Eksempel 29 | B32: ='Eks 29'!A2 -> Indberetning til årsultimo på en udlånskonto med 1 låntager (udlænding, virksomhed) uden Tinnr. og adresseoplysninger, og ingen oplysninger på administrator for virksomheden (formand), med kontotype 56. KontohaverIdentifikationMulig = false
A33: ='Eks 30'!A1 -> Eksempel 30 | B33: ='Eks 30'!A2 -> Indberetning til årsultimo på en udlånskonto med 1 låntager (indlændinge, person), der er formand eller administrator for en virksomhed uden cvr.nr.
A34: ='Eks 31'!A1 -> Eksempel 31 | B34: ='Eks 31'!A2 -> Indberetning til årsultimo på en udlånskonto med 1 låntager (indlændinge, person). Indberetningen er vedrørende en boligbonus på 1000 kr.
A35: ='Eks 32'!A1 -> Eksempel 32 | B35: ='Eks 32'!A2 -> Indberetning til årsultimo på en udlånskonto med 1 låntager (indlændinge, virksomhed), hvor lånet er oprettet 01.10.2019. Der sker ejerskifte pr. 01.01.2026
A36: ='Eks 33'!A1 -> Eksempel 33 | B36: ='Eks 33'!A2 -> Indberetning på en udlånskonto med 3 låntagere. En låntager er indlænding person og 2 låntagere er ukendte. Det er vigtigt at medtage alle låntagere, også selvom flere af låntagerne er ukendte.
A37: ='Eks 34'!A1 -> Eksempel 34 | B37: ='Eks 34'!A2 -> Indberetning på en udlånskonto med 1 kontohaver (udlænding, person) med kontotype 56, hvor I er blevet oplyst fra CPR-registreret at kontohaveren er udvandret, men ikke har kendskab om bopælslandet og adressen. Landekode skal udfyldes med DK, og kontohaveridentifikationmulig med false.
A38: ='Eks 35'!A1 -> Eksempel 35 | B38: ='Eks 35'!A2 -> Rettelse af eksempel 1 (rentebeløb ændres til 2.000 kr.). Rettelsen kan kun udføres på en allerede gældende indberetning, ellers skal man lave en ny intiel indberetning
A39: ='Eks 36'!A1 -> Eksempel 36 | B39: ='Eks 36'!A2 -> Invalidering af eksempel 1 (gældende indberetning)
A40: ='Eks 37'!A1 -> Eksempel 37 | B40: ='Eks 37'!A2 -> Invalidering af ikke gældende indberetning (FejlFormat eller FejlIndberetning)

Sheet Eks 1
A1: Eksempel 1
A2: Indberetning til årsultimo på en udlånskonto med 1 låntager (indlændinge, person)
A3: Node | B3: Værdi | C3: Xpath
A4: Indkomstår | B4: 2026 | C4: RenteIndberetningUdlånStruktur/Indberetningsperiode/
A5: VirksomhedSENummer | B5: 12345678 | C5: RenteIndberetningUdlånStruktur/Indberetningspligtig/
A6: KontoID | B6: Udlaan-Aars_Eks_01 | C6: RenteIndberetningUdlånStruktur/
A7: IndberetningID | B7: 33921553-7fce-7cec-bf7b-e7c861940601 | C7: RenteIndberetningUdlånStruktur/IndberetningValg/RetbarKontoOplysninger/IndberetningIdentifikatorStruktur/
A8: UdlånKontoNummer | B8: 12341234567890 | C8: RenteIndberetningUdlånStruktur/IndberetningValg/RetbarKontoOplysninger/KontoDetaljer/
A9: KontoStartDato | B9: 2001-05-01 | C9: RenteIndberetningUdlånStruktur/IndberetningValg/RetbarKontoOplysninger/KontoDetaljer/
A10: KontoValutaKode | B10: DKK | C10: RenteIndberetningUdlånStruktur/IndberetningValg/RetbarKontoOplysninger/KontoDetaljer/
A11: RenteBeløb | B11: 200 | C11: RenteIndberetningUdlånStruktur/IndberetningValg/RetbarKontoOplysninger/Beløb/
A12: LånRestgældBeløb | B12: 5000,50 | C12: RenteIndberetningUdlånStruktur/IndberetningValg/RetbarKontoOplysninger/Beløb/
A13: RenteBeløb | B13: 200 | C13: RenteIndberetningUdlånStruktur/IndberetningValg/RetbarKontoOplysninger/KontoperiodeValg/KontoperiodeÅrsUltimoListe/Kontoperiode/
A14: LånForholdRestanceMarkering | B14: false | C14: RenteIndberetningUdlånStruktur/IndberetningValg/RetbarKontoOplysninger/KontoperiodeValg/KontoperiodeÅrsUltimoListe/Kontoperiode/
... A17: VirksomhedFormandAdministrator | B17: false | C17: RenteIndberetningUdlånStruktur/IndberetningValg/RetbarKontoOplysninger/KontoperiodeValg/KontoperiodeÅrsUltimoListe/Kontoperiode/KontohaverListe/KontohaverOplysninger/KontohaverValg/IndlændingValg/Person/

Sheet Eks 2
A1: Eksempel 2
A2: Indberetning til årsultimo på en udlånskonto med 1 låntager (udlændinge, person) med Tinnr. KontohaverIdentifikationMulig = true
A3: Node | B3: Værdi | C3: Xpath
A4: Indkomstår | B4: 2026 | C4: RenteIndberetningUdlånStruktur/Indberetningsperiode/
A5: VirksomhedSENummer | B5: 12345678 | C5: RenteIndberetningUdlånStruktur/Indberetningspligtig/
A6: KontoID | B6: Udlaan-Aars_Eks_02 | C6: RenteIndberetningUdlånStruktur/
A7: IndberetningID | B7: 33921553-7fce-7cec-bf7b-e7c861940602 | C7: RenteIndberetningUdlånStruktur/IndberetningValg/RetbarKontoOplysninger/IndberetningIdentifikatorStruktur/
A8: UdlånKontoNummer | B8: 12341234567890 | C8: RenteIndberetningUdlånStruktur/IndberetningValg/RetbarKontoOplysninger/KontoDetaljer/
A9: KontoStartDato | B9: 2016-07-01 | C9: RenteIndberetningUdlånStruktur/IndberetningValg/RetbarKontoOplysninger/KontoDetaljer/
A10: KontoValutaKode | B10: DKK | C10: RenteIndberetningUdlånStruktur/IndberetningValg/RetbarKontoOplysninger/KontoDetaljer/
A11: RenteBeløb | B11: 200 | C11: RenteIndberetningUdlånStruktur/IndberetningValg/RetbarKontoOplysninger/Beløb/
A12: LånRestgældBeløb | B12: 5000,50 | C12: RenteIndberetningUdlånStruktur/IndberetningValg/RetbarKontoOplysninger/Beløb/
A13: RenteBeløb | B13: 200 | C13: RenteIndberetningUdlånStruktur/IndberetningValg/RetbarKontoOplysninger/KontoperiodeValg/KontoperiodeÅrsUltimoListe/Kontoperiode/
A14: LånForholdRestanceMarkering | B14: false | C14: RenteIndberetningUdlånStruktur/IndberetningValg/RetbarKontoOplysninger/KontoperiodeValg/KontoperiodeÅrsUltimoListe/Kontoperiode/
... A25: KontohaverIdentifikationMulig | B25: true | C25: RenteIndberetningUdlånStruktur/IndberetningValg/RetbarKontoOplysninger/KontoperiodeValg/KontoperiodeÅrsUltimoListe/Kontoperiode/KontohaverListe/KontohaverOplysninger/KontohaverValg/ValutaudlændingValg/Person/

Sheet Eks 3
A1: Eksempel 3
A2: Indberetning til årsultimo på en udlånskonto med 1 låntager (udlændinge, person), hvor der ikke udstedes Tinnr. Personfødeseldato, Personfødested og Fødestat er kendt. KontohaverIdentifikationMulig = true
A3: Node | B3: Værdi | C3: Xpath
A4: Indkomstår | B4: 2026 | C4: RenteIndberetningUdlånStruktur/Indberetningsperiode/
A5: VirksomhedSENummer | B5: 12345678 | C5: RenteIndberetningUdlånStruktur/Indberetningspligtig/
A6: KontoID | B6: Udlaan-Aars_Eks_03 | C6: RenteIndberetningUdlånStruktur/
A7: IndberetningID | B7: 33921553-7fce-7cec-bf7b-e7c861940603 | C7: RenteIndberetningUdlånStruktur/IndberetningValg/RetbarKontoOplysninger/IndberetningIdentifikatorStruktur/
A8: UdlånKontoNummer | B8: 12341234567890 | C8: RenteIndberetningUdlånStruktur/IndberetningValg/RetbarKontoOplysninger/KontoDetaljer/
A9: KontoStartDato | B9: 2016-07-01 | C9: RenteIndberetningUdlånStruktur/IndberetningValg/RetbarKontoOplysninger/KontoDetaljer/
A10: KontoValutaKode | B10: DKK | C10: RenteIndberetningUdlånStruktur/IndberetningValg/RetbarKontoOplysninger/KontoDetaljer/
A11: RenteBeløb | B11: 200 | C11: RenteIndberetningUdlånStruktur/IndberetningValg/RetbarKontoOplysninger/Beløb/
A12: LånRestgældBeløb | B12: 5000,50 | C12: RenteIndberetningUdlånStruktur/IndberetningValg/RetbarKontoOplysninger/Beløb/
A13: RenteBeløb | B13: 200 | C13: RenteIndberetningUdlånStruktur/IndberetningValg/RetbarKontoOplysninger/KontoperiodeValg/KontoperiodeÅrsUltimoListe/Kontoperiode/
A14: LånForholdRestanceMarkering | B14: false | C14: RenteIndberetningUdlånStruktur/IndberetningValg/RetbarKontoOplysninger/KontoperiodeValg/KontoperiodeÅrsUltimoListe/Kontoperiode/
... A26: KontohaverIdentifikationMulig | B26: true | C26: RenteIndberetningUdlånStruktur/IndberetningValg/RetbarKontoOplysninger/KontoperiodeValg/KontoperiodeÅrsUltimoListe/Kontoperiode/KontohaverListe/KontohaverOplysninger/KontohaverValg/ValutaudlændingValg/Person/

Sheet Eks 4
A1: Eksempel 4
A2: Indberetning til årsultimo på en udlånskonto med 1 låntager (udlænding, person) hvor kun fornavn og efternavn er kendt samt bopælsstat. KontohaverIdentifikationMulig = false
A3: Node | B3: Værdi | C3: Xpath
A4: Indkomstår | B4: 2026 | C4: RenteIndberetningUdlånStruktur/Indberetningsperiode/
A5: VirksomhedSENummer | B5: 12345678 | C5: RenteIndberetningUdlånStruktur/Indberetningspligtig/
A6: KontoID | B6: Udlaan-Aars_Eks_04 | C6: RenteIndberetningUdlånStruktur/
A7: IndberetningID | B7: 33921553-7fce-7cec-bf7b-e7c861940604 | C7: RenteIndberetningUdlånStruktur/IndberetningValg/RetbarKontoOplysninger/IndberetningIdentifikatorStruktur/
A8: UdlånKontoNummer | B8: 12341234567890 | C8: RenteIndberetningUdlånStruktur/IndberetningValg/RetbarKontoOplysninger/KontoDetaljer/
A9: KontoStartDato | B9: 2001-05-01 | C9: RenteIndberetningUdlånStruktur/IndberetningValg/RetbarKontoOplysninger/KontoDetaljer/
A10: KontoValutaKode | B10: DKK | C10: RenteIndberetningUdlånStruktur/IndberetningValg/RetbarKontoOplysninger/KontoDetaljer/
A11: RenteBeløb | B11: 200 | C11: RenteIndberetningUdlånStruktur/IndberetningValg/RetbarKontoOplysninger/Beløb/
A12: LånRestgældBeløb | B12: 5000,50 | C12: RenteIndberetningUdlånStruktur/IndberetningValg/RetbarKontoOplysninger/Beløb/
A13: RenteBeløb | B13: 200 | C13: RenteIndberetningUdlånStruktur/IndberetningValg/RetbarKontoOplysninger/KontoperiodeValg/KontoperiodeÅrsUltimoListe/Kontoperiode/
A14: LånForholdRestanceMarkering | B14: false | C14: RenteIndberetningUdlånStruktur/IndberetningValg/RetbarKontoOplysninger/KontoperiodeValg/KontoperiodeÅrsUltimoListe/Kontoperiode/
... A20: KontohaverIdentifikationMulig | B20: false | C20: RenteIndberetningUdlånStruktur/IndberetningValg/RetbarKontoOplysninger/KontoperiodeValg/KontoperiodeÅrsUltimoListe/Kontoperiode/KontohaverListe/KontohaverOplysninger/KontohaverValg/ValutaudlændingValg/Person/

Sheet Eks 5
A1: Eksempel 5
A2: Indberetning til årsultimo på en udlånskonto med 2 låntagere (udlænding person og udlænding virksomhed), hvor Tinnr. er kendt på person og Tinnr. er ukendt på virksomhed (formand indberettes med Tinnnr.) KontohaverIdentifikationMulig = true
A3: Node | B3: Værdi | C3: Xpath
A4: Indkomstår | B4: 2026 | C4: RenteIndberetningUdlånStruktur/Indberetningsperiode/
A5: VirksomhedSENummer | B5: 12345678 | C5: RenteIndberetningUdlånStruktur/Indberetningspligtig/
A6: KontoID | B6: Udlaan-Aars_Eks_05 | C6: RenteIndberetningUdlånStruktur/
A7: IndberetningID | B7: 33921553-7fce-7cec-bf7b-e7c861940605 | C7: RenteIndberetningUdlånStruktur/IndberetningValg/RetbarKontoOplysninger/IndberetningIdentifikatorStruktur/
A8: UdlånKontoNummer | B8: 12341234567890 | C8: RenteIndberetningUdlånStruktur/IndberetningValg/RetbarKontoOplysninger/KontoDetaljer/
A9: KontoStartDato | B9: 2016-07-01 | C9: RenteIndberetningUdlånStruktur/IndberetningValg/RetbarKontoOplysninger/KontoDetaljer/
A10: KontoValutaKode | B10: DKK | C10: RenteIndberetningUdlånStruktur/IndberetningValg/RetbarKontoOplysninger/KontoDetaljer/
A11: RenteBeløb | B11: 200 | C11: RenteIndberetningUdlånStruktur/IndberetningValg/RetbarKontoOplysninger/Beløb/
A12: LånRestgældBeløb | B12: 5000,50 | C12: RenteIndberetningUdlånStruktur/IndberetningValg/RetbarKontoOplysninger/Beløb/
A13: RenteBeløb | B13: 200 | C13: RenteIndberetningUdlånStruktur/IndberetningValg/RetbarKontoOplysninger/KontoperiodeValg/KontoperiodeÅrsUltimoListe/Kontoperiode/
A14: LånForholdRestanceMarkering | B14: false | C14: RenteIndberetningUdlånStruktur/IndberetningValg/RetbarKontoOplysninger/KontoperiodeValg/KontoperiodeÅrsUltimoListe/Kontoperiode/
... A35: KontohaverIdentifikationMulig | B35: true | C35: RenteIndberetningUdlånStruktur/IndberetningValg/RetbarKontoOplysninger/KontoperiodeValg/KontoperiodeÅrsUltimoListe/Kontoperiode/KontohaverListe/KontohaverOplysninger[position()=2]/KontohaverValg/ValutaudlændingValg/Person/

Sheet Eks 6
A1: Eksempel 6
A2: Indberetning til årsultimo på en udlånskonto med 1 låntager (indlænding, virksomhed)
A3: Node | B3: Værdi | C3: Xpath
A4: Indkomstår | B4: 2026 | C4: RenteIndberetningUdlånStruktur/Indberetningsperiode/
A5: VirksomhedSENummer | B5: 12345678 | C5: RenteIndberetningUdlånStruktur/Indberetningspligtig/
A6: KontoID | B6: Udlaan-Aars_Eks_06 | C6: RenteIndberetningUdlånStruktur/
A7: IndberetningID | B7: 33921553-7fce-7cec-bf7b-e7c861940606 | C7: RenteIndberetningUdlånStruktur/IndberetningValg/RetbarKontoOplysninger/IndberetningIdentifikatorStruktur/
A8: UdlånKontoNummer | B8: 12341234567890 | C8: RenteIndberetningUdlånStruktur/IndberetningValg/RetbarKontoOplysninger/KontoDetaljer/
A9: KontoStartDato | B9: 2001-05-01 | C9: RenteIndberetningUdlånStruktur/IndberetningValg/RetbarKontoOplysninger/KontoDetaljer/
A10: KontoValutaKode | B10: DKK | C10: RenteIndberetningUdlånStruktur/IndberetningValg/RetbarKontoOplysninger/KontoDetaljer/
A11: RenteBeløb | B11: 200 | C11: RenteIndberetningUdlånStruktur/IndberetningValg/RetbarKontoOplysninger/Beløb/
A12: LånRestgældBeløb | B12: 5000,50 | C12: RenteIndberetningUdlånStruktur/IndberetningValg/RetbarKontoOplysninger/Beløb/
A13: RenteBeløb | B13: 200 | C13: RenteIndberetningUdlånStruktur/IndberetningValg/RetbarKontoOplysninger/KontoperiodeValg/KontoperiodeÅrsUltimoListe/Kontoperiode/
A14: LånForholdRestanceMarkering | B14: false | C14: RenteIndberetningUdlånStruktur/IndberetningValg/RetbarKontoOplysninger/KontoperiodeValg/KontoperiodeÅrsUltimoListe/Kontoperiode/
... A16: VirksomhedSENummer | B16: 11111111 | C16: RenteIndberetningUdlånStruktur/IndberetningValg/RetbarKontoOplysninger/KontoperiodeValg/KontoperiodeÅrsUltimoListe/Kontoperiode/KontohaverListe/KontohaverOplysninger/KontohaverValg/IndlændingValg/

Sheet Eks 7
A1: Eksempel 7
A2: Indberetning til årsultimo på en udlånskonto med 1 låntager (udlænding, virksomhed) med Tinnr. KontohaverIdentifikationMulig = true
A3: Node | B3: Værdi | C3: Xpath
A4: Indkomstår | B4: 2026 | C4: RenteIndberetningUdlånStruktur/Indberetningsperiode/
A5: VirksomhedSENummer | B5: 12345678 | C5: RenteIndberetningUdlånStruktur/Indberetningspligtig/
A6: KontoID | B6: Udlaan-Aars_Eks_07 | C6: RenteIndberetningUdlånStruktur/
A7: IndberetningID | B7: 33921553-7fce-7cec-bf7b-e7c861940607 | C7: RenteIndberetningUdlånStruktur/IndberetningValg/RetbarKontoOplysninger/IndberetningIdentifikatorStruktur/
A8: UdlånKontoNummer | B8: 12341234567890 | C8: RenteIndberetningUdlånStruktur/IndberetningValg/RetbarKontoOplysninger/KontoDetaljer/
A9: KontoStartDato | B9: 2016-07-01 | C9: RenteIndberetningUdlånStruktur/IndberetningValg/RetbarKontoOplysninger/KontoDetaljer/
A10: KontoValutaKode | B10: DKK | C10: RenteIndberetningUdlånStruktur/IndberetningValg/RetbarKontoOplysninger/KontoDetaljer/
A11: RenteBeløb | B11: 200 | C11: RenteIndberetningUdlånStruktur/IndberetningValg/RetbarKontoOplysninger/Beløb/
A12: LånRestgældBeløb | B12: 5000,50 | C12: RenteIndberetningUdlånStruktur/IndberetningValg/RetbarKontoOplysninger/Beløb/
A13: RenteBeløb | B13: 200 | C13: RenteIndberetningUdlånStruktur/IndberetningValg/RetbarKontoOplysninger/KontoperiodeValg/KontoperiodeÅrsUltimoListe/Kontoperiode/
A14: LånForholdRestanceMarkering | B14: false | C14: RenteIndberetningUdlånStruktur/IndberetningValg/RetbarKontoOplysninger/KontoperiodeValg/KontoperiodeÅrsUltimoListe/Kontoperiode/
... A23: KontohaverIdentifikationMulig | B23: true | C23: RenteIndberetningUdlånStruktur/IndberetningValg/RetbarKontoOplysninger/KontoperiodeValg/KontoperiodeÅrsUltimoListe/Kontoperiode/KontohaverListe/KontohaverOplysninger/KontohaverValg/ValutaudlændingValg/Virksomhed/

Sheet Eks 8
A1: Eksempel 8
A2: Indberetning til årsultimo på en udlånskonto med 1 låntager (udlænding, virksomhed) uden Tinnr. KontohaverIdentifikationMulig = false
A3: Node | B3: Værdi | C3: Xpath
A4: Indkomstår | B4: 2026 | C4: RenteIndberetningUdlånStruktur/Indberetningsperiode/
A5: VirksomhedSENummer | B5: 12345678 | C5: RenteIndberetningUdlånStruktur/Indberetningspligtig/
A6: KontoID | B6: Udlaan-Aars_Eks_08 | C6: RenteIndberetningUdlånStruktur/
A7: IndberetningID | B7: 33921553-7fce-7cec-bf7b-e7c861940608 | C7: RenteIndberetningUdlånStruktur/IndberetningValg/RetbarKontoOplysninger/IndberetningIdentifikatorStruktur/
A8: UdlånKontoNummer | B8: 12341234567890 | C8: RenteIndberetningUdlånStruktur/IndberetningValg/RetbarKontoOplysninger/KontoDetaljer/
A9: KontoStartDato | B9: 2001-05-01 | C9: RenteIndberetningUdlånStruktur/IndberetningValg/RetbarKontoOplysninger/KontoDetaljer/
A10: KontoValutaKode | B10: DKK | C10: RenteIndberetningUdlånStruktur/IndberetningValg/RetbarKontoOplysninger/KontoDetaljer/
A11: RenteBeløb | B11: 200 | C11: RenteIndberetningUdlånStruktur/IndberetningValg/RetbarKontoOplysninger/Beløb/
A12: LånRestgældBeløb | B12: 5000,50 | C12: RenteIndberetningUdlånStruktur/IndberetningValg/RetbarKontoOplysninger/Beløb/
A13: RenteBeløb | B13: 200 | C13: RenteIndberetningUdlånStruktur/IndberetningValg/RetbarKontoOplysninger/KontoperiodeValg/KontoperiodeÅrsUltimoListe/Kontoperiode/
A14: LånForholdRestanceMarkering | B14: false | C14: RenteIndberetningUdlånStruktur/IndberetningValg/RetbarKontoOplysninger/KontoperiodeValg/KontoperiodeÅrsUltimoListe/Kontoperiode/
... A21: KontohaverIdentifikationMulig | B21: false | C21: RenteIndberetningUdlånStruktur/IndberetningValg/RetbarKontoOplysninger/KontoperiodeValg/KontoperiodeÅrsUltimoListe/Kontoperiode/KontohaverListe/KontohaverOplysninger/KontohaverValg/ValutaudlændingValg/Virksomhed/

Sheet Eks 9
A1: Eksempel 9
A2: Indberetning til årsultimo på en udlånskonto med 1 låntager (indlænding, person). Kontoen ophører i indkomståret
A3: Node | B3: Værdi | C3: Xpath
A4: Indkomstår | B4: 2026 | C4: RenteIndberetningUdlånStruktur/Indberetningsperiode/
A5: VirksomhedSENummer | B5: 12345678 | C5: RenteIndberetningUdlånStruktur/Indberetningspligtig/
A6: KontoID | B6: Udlaan-Aars_Eks_09 | C6: RenteIndberetningUdlånStruktur/
A7: IndberetningID | B7: 33921553-7fce-7cec-bf7b-e7c861940609 | C7: RenteIndberetningUdlånStruktur/IndberetningValg/RetbarKontoOplysninger/IndberetningIdentifikatorStruktur/
A8: UdlånKontoNummer | B8: 12341234567890 | C8: RenteIndberetningUdlånStruktur/IndberetningValg/RetbarKontoOplysninger/KontoDetaljer/
A9: KontoStartDato | B9: 2001-05-01 | C9: RenteIndberetningUdlånStruktur/IndberetningValg/RetbarKontoOplysninger/KontoDetaljer/
A10: KontoOphørDato | B10: 2026-10-31 | C10: RenteIndberetningUdlånStruktur/IndberetningValg/RetbarKontoOplysninger/KontoDetaljer/
A11: KontoValutaKode | B11: DKK | C11: RenteIndberetningUdlånStruktur/IndberetningValg/RetbarKontoOplysninger/KontoDetaljer/
A12: RenteBeløb | B12: 200 | C12: RenteIndberetningUdlånStruktur/IndberetningValg/RetbarKontoOplysninger/Beløb/
A13: LånRestgældBeløb | B13: 0 | C13: RenteIndberetningUdlånStruktur/IndberetningValg/RetbarKontoOplysninger/Beløb/
A14: RenteBeløb | B14: 200 | C14: RenteIndberetningUdlånStruktur/IndberetningValg/RetbarKontoOplysninger/KontoperiodeValg/KontoperiodeÅrsUltimoListe/Kontoperiode/
... A18: VirksomhedFormandAdministrator | B18: false | C18: RenteIndberetningUdlånStruktur/IndberetningValg/RetbarKontoOplysninger/KontoperiodeValg/KontoperiodeÅrsUltimoListe/Kontoperiode/KontohaverListe/KontohaverOplysninger/KontohaverValg/IndlændingValg/Person/

Sheet Eks 10
A1: Eksempel 10
A2: Indberetning til årsultimo på en udlånskonto med 2 låntagere (indlændinge, personer), hvoraf den ene udtræder 31/5
A3: Node | B3: Værdi | C3: Xpath
A4: Indkomstår | B4: 2026 | C4: RenteIndberetningUdlånStruktur/Indberetningsperiode/
A5: VirksomhedSENummer | B5: 12345678 | C5: RenteIndberetningUdlånStruktur/Indberetningspligtig/
A6: KontoID | B6: Udlaan-Aars_Eks_10 | C6: RenteIndberetningUdlånStruktur/
A7: IndberetningID | B7: 33921553-7fce-7cec-bf7b-e7c861940610 | C7: RenteIndberetningUdlånStruktur/IndberetningValg/RetbarKontoOplysninger/IndberetningIdentifikatorStruktur/
A8: UdlånKontoNummer | B8: 12341234567890 | C8: RenteIndberetningUdlånStruktur/IndberetningValg/RetbarKontoOplysninger/KontoDetaljer/
A9: KontoStartDato | B9: 2001-05-01 | C9: RenteIndberetningUdlånStruktur/IndberetningValg/RetbarKontoOplysninger/KontoDetaljer/
A10: KontoValutaKode | B10: DKK | C10: RenteIndberetningUdlånStruktur/IndberetningValg/RetbarKontoOplysninger/KontoDetaljer/
A11: RenteBeløb | B11: 450 | C11: RenteIndberetningUdlånStruktur/IndberetningValg/RetbarKontoOplysninger/Beløb/
A12: LånRestgældBeløb | B12: 5000,50 | C12: RenteIndberetningUdlånStruktur/IndberetningValg/RetbarKontoOplysninger/Beløb/
A13: RenteBeløb | B13: 200 | C13: RenteIndberetningUdlånStruktur/IndberetningValg/RetbarKontoOplysninger/KontoperiodeValg/KontoperiodeÅrsUltimoListe/Kontoperiode[position()=1]/
A14: LånForholdRestanceMarkering | B14: false | C14: RenteIndberetningUdlånStruktur/IndberetningValg/RetbarKontoOplysninger/KontoperiodeValg/KontoperiodeÅrsUltimoListe/Kontoperiode[position()=1]/
... A26: VirksomhedFormandAdministrator | B26: false | C26: RenteIndberetningUdlånStruktur/IndberetningValg/RetbarKontoOplysninger/KontoperiodeValg/KontoperiodeÅrsUltimoListe/Kontoperiode[position()=2]/KontohaverListe/KontohaverOplysninger/KontohaverValg/IndlændingValg/Person/

Sheet Eks 11
A1: Eksempel 11
A2: Indberetning til årsultimo på en udlånskonto med 2 låntagere (indlænding person og indlænding virksomhed)
A3: Node | B3: Værdi | C3: Xpath
A4: Indkomstår | B4: 2026 | C4: RenteIndberetningUdlånStruktur/Indberetningsperiode/
A5: VirksomhedSENummer | B5: 12345678 | C5: RenteIndberetningUdlånStruktur/Indberetningspligtig/
A6: KontoID | B6: Udlaan-Aars_Eks_11 | C6: RenteIndberetningUdlånStruktur/
A7: IndberetningID | B7: 33921553-7fce-7cec-bf7b-e7c861940611 | C7: RenteIndberetningUdlånStruktur/IndberetningValg/RetbarKontoOplysninger/IndberetningIdentifikatorStruktur/
A8: UdlånKontoNummer | B8: 12341234567890 | C8: RenteIndberetningUdlånStruktur/IndberetningValg/RetbarKontoOplysninger/KontoDetaljer/
A9: KontoStartDato | B9: 2001-05-01 | C9: RenteIndberetningUdlånStruktur/IndberetningValg/RetbarKontoOplysninger/KontoDetaljer/
A10: KomtoValutaKode | B10: DKK | C10: RenteIndberetningUdlånStruktur/IndberetningValg/RetbarKontoOplysninger/KontoDetaljer/
A11: RenteBeløb | B11: 200 | C11: RenteIndberetningUdlånStruktur/IndberetningValg/RetbarKontoOplysninger/Beløb/
A12: LånRestgældBeløb | B12: 5000,50 | C12: RenteIndberetningUdlånStruktur/IndberetningValg/RetbarKontoOplysninger/Beløb/
A13: RenteBeløb | B13: 200 | C13: RenteIndberetningUdlånStruktur/IndberetningValg/RetbarKontoOplysninger/KontoperiodeValg/KontoperiodeÅrsUltimoListe/Kontoperiode/
A14: LånForholdRestanceMarkering | B14: false | C14: RenteIndberetningUdlånStruktur/IndberetningValg/RetbarKontoOplysninger/KontoperiodeValg/KontoperiodeÅrsUltimoListe/Kontoperiode/
A15: KontoTypeKode | B15: 56 | C15: RenteIndberetningUdlånStruktur/IndberetningValg/RetbarKontoOplysninger/KontoperiodeValg/KontoperiodeÅrsUltimoListe/Kontoperiode/
A16: PersonCPRNummer | B16: 1201280008 | C16: RenteIndberetningUdlånStruktur/IndberetningValg/RetbarKontoOplysninger/KontoperiodeValg/KontoperiodeÅrsUltimoListe/Kontoperiode/KontohaverListe/KontohaverOplysninger[position()=1]/KontohaverValg/IndlændingValg/Person/
A17: VirksomhedFormandAdministrator | B17: false | C17: RenteIndberetningUdlånStruktur/IndberetningValg/RetbarKontoOplysninger/KontoperiodeValg/KontoperiodeÅrsUltimoListe/Kontoperiode/KontohaverListe/KontohaverOplysninger[position()=1]/KontohaverValg/IndlændingValg/Person/
A18: VirksomhedSENummer | B18: 11111111 | C18: RenteIndberetningUdlånStruktur/IndberetningValg/RetbarKontoOplysninger/KontoperiodeValg/KontoperiodeÅrsUltimoListe/Kontoperiode/KontohaverListe/KontohaverOplysninger[position()=2]/KontohaverValg/IndlændingValg

Sheet Eks 12
A1: Eksempel 12
A2: Indberetning til årsultimo på en udlånskonto med 2 låntagere (indlændinge, personer), hvoraf den ene indtræder 6/3
A3: Node | B3: Værdi | C3: Xpath
A4: Indkomstår | B4: 2026 | C4: RenteIndberetningUdlånStruktur/Indberetningsperiode/
A5: VirksomhedSENummer | B5: 12345678 | C5: RenteIndberetningUdlånStruktur/Indberetningspligtig/
A6: KontoID | B6: Udlaan-Aars_Eks_12 | C6: RenteIndberetningUdlånStruktur/
A7: IndberetningID | B7: 33921553-7fce-7cec-bf7b-e7c861940612 | C7: RenteIndberetningUdlånStruktur/IndberetningValg/RetbarKontoOplysninger/IndberetningIdentifikatorStruktur/
A8: UdlånKontoNummer | B8: 12341234567890 | C8: RenteIndberetningUdlånStruktur/IndberetningValg/RetbarKontoOplysninger/KontoDetaljer/
A9: KontoStartDato | B9: 2001-05-01 | C9: RenteIndberetningUdlånStruktur/IndberetningValg/RetbarKontoOplysninger/KontoDetaljer/
A10: KontoValutaKode | B10: DKK | C10: RenteIndberetningUdlånStruktur/IndberetningValg/RetbarKontoOplysninger/KontoDetaljer/
A11: RenteBeløb | B11: 500 | C11: RenteIndberetningUdlånStruktur/IndberetningValg/RetbarKontoOplysninger/Beløb/
A12: LånRestgældBeløb | B12: 5000,50 | C12: RenteIndberetningUdlånStruktur/IndberetningValg/RetbarKontoOplysninger/Beløb/
A13: RenteBeløb | B13: 100 | C13: RenteIndberetningUdlånStruktur/IndberetningValg/RetbarKontoOplysninger/KontoperiodeValg/KontoperiodeÅrsUltimoListe/Kontoperiode[position()=1]/
A14: LånForholdRestanceMarkering | B14: false | C14: RenteIndberetningUdlånStruktur/IndberetningValg/RetbarKontoOplysninger/KontoperiodeValg/KontoperiodeÅrsUltimoListe/Kontoperiode[position()=1]/
... A26: VirksomhedFormandAdministrator | B26: false | C26: RenteIndberetningUdlånStruktur/IndberetningValg/RetbarKontoOplysninger/KontoperiodeValg/KontoperiodeÅrsUltimoListe/Kontoperiode[position()=2]/KontohaverListe/KontohaverOplysninger[position()=2]/KontohaverValg/IndlændingValg/Person/

Sheet Eks 13
A1: Eksempel 13
A2: Indberetning til årsultimo på en udlånskonto med 3 låntagere (indlændinge, personer), hvoraf den tredje indtræder 1/5 og renterne er tilskrevet hhv. 30/4 og 31/12 med 550 kr. og 2750 kr. dvs. man tilskriver rente i forbindelse med ejerskifte
A3: Node | B3: Værdi | C3: Xpath
A4: Indkomstår | B4: 2026 | C4: RenteIndberetningUdlånStruktur/Indberetningsperiode/
A5: VirksomhedSENummer | B5: 12345678 | C5: RenteIndberetningUdlånStruktur/Indberetningspligtig/
A6: KontoID | B6: Udlaan-Aars_Eks_13 | C6: RenteIndberetningUdlånStruktur/
A7: IndberetningID | B7: 33921553-7fce-7cec-bf7b-e7c861940613 | C7: RenteIndberetningUdlånStruktur/IndberetningValg/RetbarKontoOplysninger/IndberetningIdentifikatorStruktur/
A8: UdlånKontoNummer | B8: 12341234567890 | C8: RenteIndberetningUdlånStruktur/IndberetningValg/RetbarKontoOplysninger/KontoDetaljer/
A9: KontoStartDato | B9: 2001-05-01 | C9: RenteIndberetningUdlånStruktur/IndberetningValg/RetbarKontoOplysninger/KontoDetaljer/
A10: KontoValutaKode | B10: DKK | C10: RenteIndberetningUdlånStruktur/IndberetningValg/RetbarKontoOplysninger/KontoDetaljer/
A11: RenteBeløb | B11: 3300 | C11: RenteIndberetningUdlånStruktur/IndberetningValg/RetbarKontoOplysninger/Beløb/
A12: LånRestgældBeløb | B12: 1000000 | C12: RenteIndberetningUdlånStruktur/IndberetningValg/RetbarKontoOplysninger/Beløb/
A13: RenteBeløb | B13: 550 | C13: RenteIndberetningUdlånStruktur/IndberetningValg/RetbarKontoOplysninger/KontoperiodeValg/KontoperiodeÅrsUltimoListe/Kontoperiode[position()=1]/
A14: LånForholdRestanceMarkering | B14: false | C14: RenteIndberetningUdlånStruktur/IndberetningValg/RetbarKontoOplysninger/KontoperiodeValg/KontoperiodeÅrsUltimoListe/Kontoperiode[position()=1]/
... A30: VirksomhedFormandAdministrator | B30: false | C30: RenteIndberetningUdlånStruktur/IndberetningValg/RetbarKontoOplysninger/KontoperiodeValg/KontoperiodeÅrsUltimoListe/Kontoperiode[position()=2]/KontohaverListe/KontohaverOplysninger[position()=3]/KontohaverValg/IndlændingValg/Person/

Sheet Eks 14
A1: Eksempel 14
A2: Indberetning til årsultimo på en udlånskonto med 2 låntagere (indlændinge, personer), hvoraf den anden indtræder 1/5 renterne er tilskrevet hhv 31/3, 30/6, 30/9 og 31/12 med 4 x 1000 kr.
A3: Node | B3: Værdi | C3: Xpath
A4: Indkomstår | B4: 2026 | C4: RenteIndberetningUdlånStruktur/Indberetningsperiode/
A5: VirksomhedSENummer | B5: 12345678 | C5: RenteIndberetningUdlånStruktur/Indberetningspligtig/
A6: KontoID | B6: Udlaan-Aars_Eks_14 | C6: RenteIndberetningUdlånStruktur/
A7: IndberetningID | B7: 33921553-7fce-7cec-bf7b-e7c861940614 | C7: RenteIndberetningUdlånStruktur/IndberetningValg/RetbarKontoOplysninger/IndberetningIdentifikatorStruktur/
A8: UdlånKontoNummer | B8: 12341234567890 | C8: RenteIndberetningUdlånStruktur/IndberetningValg/RetbarKontoOplysninger/KontoDetaljer/
A9: KontoStartDato | B9: 2001-05-01 | C9: RenteIndberetningUdlånStruktur/IndberetningValg/RetbarKontoOplysninger/KontoDetaljer/
A10: KontoValutaKode | B10: DKK | C10: RenteIndberetningUdlånStruktur/IndberetningValg/RetbarKontoOplysninger/KontoDetaljer/
A11: RenteBeløb | B11: 4000 | C11: RenteIndberetningUdlånStruktur/IndberetningValg/RetbarKontoOplysninger/Beløb/
A12: LånRestgældBeløb | B12: 1000000 | C12: RenteIndberetningUdlånStruktur/IndberetningValg/RetbarKontoOplysninger/Beløb/
A13: RenteBeløb | B13: 1000 | C13: RenteIndberetningUdlånStruktur/IndberetningValg/RetbarKontoOplysninger/KontoperiodeValg/KontoperiodeÅrsUltimoListe/Kontoperiode[position()=1]/
A14: LånForholdRestanceMarkering | B14: false | C14: RenteIndberetningUdlånStruktur/IndberetningValg/RetbarKontoOplysninger/KontoperiodeValg/KontoperiodeÅrsUltimoListe/Kontoperiode[position()=1]/
A15: KontoperiodeOphørDato | B15: 46142 | C15: RenteIndberetningUdlånStruktur/IndberetningValg/RetbarKontoOplysninger/KontoperiodeValg/KontoperiodeÅrsUltimoListe/Kontoperiode[position()=1]/
A16: KontoTypeKode | B16: 56 | C16: RenteIndberetningUdlånStruktur/IndberetningValg/RetbarKontoOplysninger/KontoperiodeValg/KontoperiodeÅrsUltimoListe/Kontoperiode[position()=1]/
A17: PersonCPRNummer | B17: 1201280008 | C17: RenteIndberetningUdlånStruktur/IndberetningValg/RetbarKontoOplysninger/KontoperiodeValg/KontoperiodeÅrsUltimoListe/Kontoperiode[position()=1]/KontohaverListe/KontohaverOplysninger/KontohaverValg/IndlændingValg/Person/
A18: VirksomhedFormandAdministrator | B18: false | C18: RenteIndberetningUdlånStruktur/IndberetningValg/RetbarKontoOplysninger/KontoperiodeValg/KontoperiodeÅrsUltimoListe/Kontoperiode[position()=1]/KontohaverListe/KontohaverOplysninger/KontohaverValg/IndlændingValg/Person/
A19: RenteBeløb | B19: 3000 | C19: RenteIndberetningUdlånStruktur/IndberetningValg/RetbarKontoOplysninger/KontoperiodeValg/KontoperiodeÅrsUltimoListe/Kontoperiode[position()=2]/
A20: LånForholdRestanceMarkering | B20: false | C20: RenteIndberetningUdlånStruktur/IndberetningValg/RetbarKontoOplysninger/KontoperiodeValg/KontoperiodeÅrsUltimoListe/Kontoperiode[position()=2]/
A21: KontoperiodeStartDato | B21: 46143 | C21: RenteIndberetningUdlånStruktur/IndberetningValg/RetbarKontoOplysninger/KontoperiodeValg/KontoperiodeÅrsUltimoListe/Kontoperiode[position()=2]/
A22: KontoTypeKode | B22: 56 | C22: RenteIndberetningUdlånStruktur/IndberetningValg/RetbarKontoOplysninger/KontoperiodeValg/KontoperiodeÅrsUltimoListe/Kontoperiode[position()=2]/
A23: PersonCPRNummer | B23: 1201280008 | C23: RenteIndberetningUdlånStruktur/IndberetningValg/RetbarKontoOplysninger/KontoperiodeValg/KontoperiodeÅrsUltimoListe/Kontoperiode[position()=2]/KontohaverListe/KontohaverOplysninger[position()=1]/KontohaverValg/IndlændingValg/Person/
A24: VirksomhedFormandAdministrator | B24: false | C24: RenteIndberetningUdlånStruktur/IndberetningValg/RetbarKontoOplysninger/KontoperiodeValg/KontoperiodeÅrsUltimoListe/Kontoperiode[position()=2]/KontohaverListe/KontohaverOplysninger[position()=1]/KontohaverValg/IndlændingValg/Person/
A25: PersonCPRNummer | B25: 1201004000 | C25: RenteIndberetningUdlånStruktur/IndberetningValg/RetbarKontoOplysninger/KontoperiodeValg/KontoperiodeÅrsUltimoListe/Kontoperiode[position()=2]/KontohaverListe/KontohaverOplysninger[position()=2]/KontohaverValg/IndlændingValg/Person/
A26: VirksomhedFormandAdministrator | B26: false | C26: RenteIndberetningUdlånStruktur/IndberetningValg/RetbarKontoOplysninger/KontoperiodeValg/KontoperiodeÅrsUltimoListe/Kontoperiode[position()=2]/KontohaverListe/KontohaverOplysninger[position()=2]/KontohaverValg/IndlændingValg/Person/

Sheet Eks 15
A1: Eksempel 15
A2: Indberetning til årsultimo på en udlånskonto med 1 låntager (indlænding, person). Kontoen er i restance
A3: Node | B3: Værdi | C3: Xpath
A4: Indkomstår | B4: 2026 | C4: RenteIndberetningUdlånStruktur/Indberetningsperiode/
A5: VirksomhedSENummer | B5: 12345678 | C5: RenteIndberetningUdlånStruktur/Indberetningspligtig/
A6: KontoID | B6: Udlaan-Aars_Eks_15 | C6: RenteIndberetningUdlånStruktur/
A7: IndberetningID | B7: 33921553-7fce-7cec-bf7b-e7c861940615 | C7: RenteIndberetningUdlånStruktur/IndberetningValg/RetbarKontoOplysninger/IndberetningIdentifikatorStruktur/
A8: UdlånKontoNummer | B8: 12341234567890 | C8: RenteIndberetningUdlånStruktur/IndberetningValg/RetbarKontoOplysninger/KontoDetaljer/
A9: KontoStartDato | B9: 2001-05-01 | C9: RenteIndberetningUdlånStruktur/IndberetningValg/RetbarKontoOplysninger/KontoDetaljer/
A10: KontoValutaKode | B10: DKK | C10: RenteIndberetningUdlånStruktur/IndberetningValg/RetbarKontoOplysninger/KontoDetaljer/
A11: RenteBeløb | B11: 200 | C11: RenteIndberetningUdlånStruktur/IndberetningValg/RetbarKontoOplysninger/Beløb/
A12: LånRestgældBeløb | B12: 5000,50 | C12: RenteIndberetningUdlånStruktur/IndberetningValg/RetbarKontoOplysninger/Beløb/
A13: RenteBeløb | B13: 200 | C13: RenteIndberetningUdlånStruktur/IndberetningValg/RetbarKontoOplysninger/KontoperiodeValg/KontoperiodeÅrsUltimoListe/Kontoperiode/
A14: LånForholdRestanceMarkering | B14: true | C14: RenteIndberetningUdlånStruktur/IndberetningValg/RetbarKontoOplysninger/KontoperiodeValg/KontoperiodeÅrsUltimoListe/Kontoperiode/
... A17: VirksomhedFormandAdministrator | B17: false | C17: RenteIndberetningUdlånStruktur/IndberetningValg/RetbarKontoOplysninger/KontoperiodeValg/KontoperiodeÅrsUltimoListe/Kontoperiode/KontohaverListe/KontohaverOplysninger/KontohaverValg/IndlændingValg/Person/

Sheet Eks 16
A1: Eksempel 16
A2: Indberetning til årsultimo på en udlånskonto med 1 låntager (indlænding, person). Kontoen er oprettet i indkomståret
A3: Node | B3: Værdi | C3: Xpath
A4: Indkomstår | B4: 2026 | C4: RenteIndberetningUdlånStruktur/Indberetningsperiode/
A5: VirksomhedSENummer | B5: 12345678 | C5: RenteIndberetningUdlånStruktur/Indberetningspligtig/
A6: KontoID | B6: Udlaan-Aars_Eks_16 | C6: RenteIndberetningUdlånStruktur/
A7: IndberetningID | B7: 33921553-7fce-7cec-bf7b-e7c861940616 | C7: RenteIndberetningUdlånStruktur/IndberetningValg/RetbarKontoOplysninger/IndberetningIdentifikatorStruktur/
A8: UdlånKontoNummer | B8: 12341234567890 | C8: RenteIndberetningUdlånStruktur/IndberetningValg/RetbarKontoOplysninger/KontoDetaljer/
A9: KontoStartDato | B9: 46174 | C9: RenteIndberetningUdlånStruktur/IndberetningValg/RetbarKontoOplysninger/KontoDetaljer/
A10: KontoValutaKode | B10: DKK | C10: RenteIndberetningUdlånStruktur/IndberetningValg/RetbarKontoOplysninger/KontoDetaljer/
A11: RenteBeløb | B11: 100 | C11: RenteIndberetningUdlånStruktur/IndberetningValg/RetbarKontoOplysninger/Beløb/
A12: LånRestgældBeløb | B12: 5000,50 | C12: RenteIndberetningUdlånStruktur/IndberetningValg/RetbarKontoOplysninger/Beløb/
A13: RenteBeløb | B13: 100 | C13: RenteIndberetningUdlånStruktur/IndberetningValg/RetbarKontoOplysninger/KontoperiodeValg/KontoperiodeÅrsUltimoListe/Kontoperiode/
A14: LånForholdRestanceMarkering | B14: false | C14: RenteIndberetningUdlånStruktur/IndberetningValg/RetbarKontoOplysninger/KontoperiodeValg/KontoperiodeÅrsUltimoListe/Kontoperiode/
A15: KontoTypeKode | B15: 56 | C15: RenteIndberetningUdlånStruktur/IndberetningValg/RetbarKontoOplysninger/KontoperiodeValg/KontoperiodeÅrsUltimoListe/Kontoperiode/
A16: PersonCPRNummer | B16: 1201280008 | C16: RenteIndberetningUdlånStruktur/IndberetningValg/RetbarKontoOplysninger/KontoperiodeValg/KontoperiodeÅrsUltimoListe/Kontoperiode/KontohaverListe/KontohaverOplysninger/KontohaverValg/IndlændingValg/Person/
A17: VirksomhedFormandAdministrator | B17: false | C17: RenteIndberetningUdlånStruktur/IndberetningValg/RetbarKontoOplysninger/KontoperiodeValg/KontoperiodeÅrsUltimoListe/Kontoperiode/KontohaverListe/KontohaverOplysninger/KontohaverValg/IndlændingValg/Person/

Sheet Eks 17
A1: Eksempel 17
A2: Indberetning til årsultimo på en udlånskonto med 2 låntagere (indlænding person og udlænding person uden TIN-nr., Personfødeseldato, Personfødested og Fødestat). KontohaverIdentifikationMulig = false
A3: Node | B3: Værdi | C3: Xpath
A4: Indkomstår | B4: 2026 | C4: RenteIndberetningUdlånStruktur/Indberetningsperiode/
A5: VirksomhedSENummer | B5: 12345678 | C5: RenteIndberetningUdlånStruktur/Indberetningspligtig/
A6: KontoID | B6: Udlaan-Aars_Eks_17 | C6: RenteIndberetningUdlånStruktur/
A7: IndberetningID | B7: 33921553-7fce-7cec-bf7b-e7c861940617 | C7: RenteIndberetningUdlånStruktur/IndberetningValg/RetbarKontoOplysninger/IndberetningIdentifikatorStruktur/
A8: UdlånKontoNummer | B8: 12341234567890 | C8: RenteIndberetningUdlånStruktur/IndberetningValg/RetbarKontoOplysninger/KontoDetaljer/
A9: KontoStartDato | B9: 2001-05-01 | C9: RenteIndberetningUdlånStruktur/IndberetningValg/RetbarKontoOplysninger/KontoDetaljer/
A10: KontoValutaKode | B10: DKK | C10: RenteIndberetningUdlånStruktur/IndberetningValg/RetbarKontoOplysninger/KontoDetaljer/
A11: RenteBeløb | B11: 200 | C11: RenteIndberetningUdlånStruktur/IndberetningValg/RetbarKontoOplysninger/Beløb/
A12: LånRestgældBeløb | B12: 5000,50 | C12: RenteIndberetningUdlånStruktur/IndberetningValg/RetbarKontoOplysninger/Beløb/
A13: RenteBeløb | B13: 200 | C13: RenteIndberetningUdlånStruktur/IndberetningValg/RetbarKontoOplysninger/KontoperiodeValg/KontoperiodeÅrsUltimoListe/Kontoperiode/
A14: LånForholdRestanceMarkering | B14: false | C14: RenteIndberetningUdlånStruktur/IndberetningValg/RetbarKontoOplysninger/KontoperiodeValg/KontoperiodeÅrsUltimoListe/Kontoperiode/
... A25: KontohaverIdentifikationMulig | B25: false | C25: RenteIndberetningUdlånStruktur/IndberetningValg/RetbarKontoOplysninger/KontoperiodeValg/KontoperiodeÅrsUltimoListe/Kontoperiode/KontohaverListe/KontohaverOplysninger[position()=2]/KontohaverValg/ValutaudlændingValg/Person/

Sheet Eks 18
A1: Eksempel 18
A2: Indberetning til årsultimo på en udlånskonto med 2 låntagere (indlændinge, personer). Kontoen er i restance
A3: Node | B3: Værdi | C3: Xpath
A4: Indkomstår | B4: 2026 | C4: RenteIndberetningUdlånStruktur/Indberetningsperiode/
A5: VirksomhedSENummer | B5: 12345678 | C5: RenteIndberetningUdlånStruktur/Indberetningspligtig/
A6: KontoID | B6: Udlaan-Aars_Eks_18 | C6: RenteIndberetningUdlånStruktur/
A7: IndberetningID | B7: 33921553-7fce-7cec-bf7b-e7c861940618 | C7: RenteIndberetningUdlånStruktur/IndberetningValg/RetbarKontoOplysninger/IndberetningIdentifikatorStruktur/
A8: UdlånKontoNummer | B8: 12341234567890 | C8: RenteIndberetningUdlånStruktur/IndberetningValg/RetbarKontoOplysninger/KontoDetaljer/
A9: KontoStartDato | B9: 2001-05-01 | C9: RenteIndberetningUdlånStruktur/IndberetningValg/RetbarKontoOplysninger/KontoDetaljer/
A10: KontoValutaKode | B10: DKK | C10: RenteIndberetningUdlånStruktur/IndberetningValg/RetbarKontoOplysninger/KontoDetaljer/
A11: RenteBeløb | B11: 200 | C11: RenteIndberetningUdlånStruktur/IndberetningValg/RetbarKontoOplysninger/Beløb/
A12: LånRestgældBeløb | B12: 5000,50 | C12: RenteIndberetningUdlånStruktur/IndberetningValg/RetbarKontoOplysninger/Beløb/
A13: RenteBeløb | B13: 200 | C13: RenteIndberetningUdlånStruktur/IndberetningValg/RetbarKontoOplysninger/KontoperiodeValg/KontoperiodeÅrsUltimoListe/Kontoperiode/
A14: LånForholdRestanceMarkering | B14: true | C14: RenteIndberetningUdlånStruktur/IndberetningValg/RetbarKontoOplysninger/KontoperiodeValg/KontoperiodeÅrsUltimoListe/Kontoperiode/
... A19: VirksomhedFormandAdministrator | B19: false | C19: RenteIndberetningUdlånStruktur/IndberetningValg/RetbarKontoOplysninger/KontoperiodeValg/KontoperiodeÅrsUltimoListe/Kontoperiode/KontohaverListe/KontohaverOplysninger[position()=2]/KontohaverValg/IndlændingValg/Person/

Sheet Eks 19
A1: Eksempel 19
A2: Indberetning til årsultimo på en udlånskonto med 2 låntagere (indlændinge, personer), hvor en af låntagerne har fået en privat delvis eftergivelse
A3: Node | B3: Værdi | C3: Xpath
A4: Indkomstår | B4: 2026 | C4: RenteIndberetningUdlånStruktur/Indberetningsperiode/
A5: VirksomhedSENummer | B5: 12345678 | C5: RenteIndberetningUdlånStruktur/Indberetningspligtig/
A6: KontoID | B6: Udlaan-Aars_Eks_19 | C6: RenteIndberetningUdlånStruktur/
A7: IndberetningID | B7: 33921553-7fce-7cec-bf7b-e7c861940619 | C7: RenteIndberetningUdlånStruktur/IndberetningValg/RetbarKontoOplysninger/IndberetningIdentifikatorStruktur/
A8: UdlånKontoNummer | B8: 12341234567890 | C8: RenteIndberetningUdlånStruktur/IndberetningValg/RetbarKontoOplysninger/KontoDetaljer/
A9: KontoStartDato | B9: 2001-05-01 | C9: RenteIndberetningUdlånStruktur/IndberetningValg/RetbarKontoOplysninger/KontoDetaljer/
A10: KontoValutaKode | B10: DKK | C10: RenteIndberetningUdlånStruktur/IndberetningValg/RetbarKontoOplysninger/KontoDetaljer/
A11: RenteBeløb | B11: 200 | C11: RenteIndberetningUdlånStruktur/IndberetningValg/RetbarKontoOplysninger/Beløb/
A12: LånRestgældBeløb | B12: 5000,50 | C12: RenteIndberetningUdlånStruktur/IndberetningValg/RetbarKontoOplysninger/Beløb/
A13: RenteBeløb | B13: 200 | C13: RenteIndberetningUdlånStruktur/IndberetningValg/RetbarKontoOplysninger/KontoperiodeValg/KontoperiodeÅrsUltimoListe/Kontoperiode/
A14: LånForholdRestanceMarkering | B14: true | C14: RenteIndberetningUdlånStruktur/IndberetningValg/RetbarKontoOplysninger/KontoperiodeValg/KontoperiodeÅrsUltimoListe/Kontoperiode/
... A20: VirksomhedFormandAdministrator | B20: false | C20: RenteIndberetningUdlånStruktur/IndberetningValg/RetbarKontoOplysninger/KontoperiodeValg/KontoperiodeÅrsUltimoListe/Kontoperiode/KontohaverListe/KontohaverOplysninger[position()=2]/KontohaverValg/IndlændingValg/Person/

Sheet Eks 20-01
A1: Eksempel 20-01
A2: Indberetning til årsultimo på en udlånskonto med 2 låntagere (indlændinge, personer), hvor en af låntagerne har fået en offentlig eftergivelse. Renten er sat i bero. Der skal laves 2 indberetninger, hvor låntageren uden offentlig gældseftergivelse indberettes i løbenummer 01 (obs - der er solidarisk hæftelse og derfor skal KontohaverIrrelevant indberettes) og låntageren med offentlig gældseftergivelse indberettes i løbenummer 02.
A3: Node | B3: Værdi | C3: Xpath
A4: Indkomstår | B4: 2026 | C4: RenteIndberetningUdlånStruktur/Indberetningsperiode/
A5: VirksomhedSENummer | B5: 12345678 | C5: RenteIndberetningUdlånStruktur/Indberetningspligtig/
A6: KontoID | B6: Udlaan-Aars_Eks_20-01 | C6: RenteIndberetningUdlånStruktur/
A7: IndberetningID | B7: 33921553-7fce-7cec-bf7b-e7c861940620-01 | C7: RenteIndberetningUdlånStruktur/IndberetningValg/RetbarKontoOplysninger/IndberetningIdentifikatorStruktur/
A8: UdlånKontoNummer | B8: 12341234567890 | C8: RenteIndberetningUdlånStruktur/IndberetningValg/RetbarKontoOplysninger/KontoDetaljer/
A9: KontoStartDato | B9: 2001-05-01 | C9: RenteIndberetningUdlånStruktur/IndberetningValg/RetbarKontoOplysninger/KontoDetaljer/
A10: KontoValutaKode | B10: DKK | C10: RenteIndberetningUdlånStruktur/IndberetningValg/RetbarKontoOplysninger/KontoDetaljer/
A11: RenteBeløb | B11: 0 | C11: RenteIndberetningUdlånStruktur/IndberetningValg/RetbarKontoOplysninger/Beløb/
A12: LånRestgældBeløb | B12: 110000,00 | C12: RenteIndberetningUdlånStruktur/IndberetningValg/RetbarKontoOplysninger/Beløb/
A13: RenteBeløb | B13: 0 | C13: RenteIndberetningUdlånStruktur/IndberetningValg/RetbarKontoOplysninger/KontoperiodeValg/KontoperiodeÅrsUltimoListe/Kontoperiode/
A14: LånForholdRestanceMarkering | B14: true | C14: RenteIndberetningUdlånStruktur/IndberetningValg/RetbarKontoOplysninger/KontoperiodeValg/KontoperiodeÅrsUltimoListe/Kontoperiode/
... A17: VirksomhedFormandAdministrator | B17: false | C17: RenteIndberetningUdlånStruktur/IndberetningValg/RetbarKontoOplysninger/KontoperiodeValg/KontoperiodeÅrsUltimoListe/Kontoperiode/KontohaverListe/KontohaverOplysninger[position()=1]/KontohaverValg/IndlændingValg/Person/
A18: KontohaverIrrelevant | C18: RenteIndberetningUdlånStruktur/IndberetningValg/RetbarKontoOplysninger/KontoperiodeValg/KontoperiodeÅrsUltimoListe/Kontoperiode/KontohaverListe/KontohaverOplysninger[position()=2]/KontohaverValg/

Sheet Eks 20-02
A1: Eksempel 20-02
A2: Indberetning til årsultimo på en udlånskonto med 2 låntagere (indlændinge, personer), hvor en af låntagerne har fået en offentlig eftergivelse. Renten er sat i bero. Der skal laves 2 indberetninger, hvor låntageren uden offentlig gældseftergivelse indberettes i løbenummer 01 og låntageren med offentlig gældseftergivelse indberettes i løbenummer 02.
A3: Node | B3: Værdi | C3: Xpath
A4: Indkomstår | B4: 2026 | C4: RenteIndberetningUdlånStruktur/Indberetningsperiode/
A5: VirksomhedSENummer | B5: 12345678 | C5: RenteIndberetningUdlånStruktur/Indberetningspligtig/
A6: KontoID | B6: Udlaan-Aars_Eks_20-02 | C6: RenteIndberetningUdlånStruktur/
A7: IndberetningID | B7: 33921553-7fce-7cec-bf7b-e7c861940620-02 | C7: RenteIndberetningUdlånStruktur/IndberetningValg/RetbarKontoOplysninger/IndberetningIdentifikatorStruktur/
A8: UdlånKontoNummer | B8: 12341234567890 | C8: RenteIndberetningUdlånStruktur/IndberetningValg/RetbarKontoOplysninger/KontoDetaljer/
A9: KontoStartDato | B9: 2001-05-01 | C9: RenteIndberetningUdlånStruktur/IndberetningValg/RetbarKontoOplysninger/KontoDetaljer/
A10: RenteBeløb | B10: 0 | C10: RenteIndberetningUdlånStruktur/IndberetningValg/RetbarKontoOplysninger/Beløb/
A11: LånRestgældBeløb | B11: 25000,00 | C11: RenteIndberetningUdlånStruktur/IndberetningValg/RetbarKontoOplysninger/Beløb/
A12: RenteBeløb | B12: 0 | C12: RenteIndberetningUdlånStruktur/IndberetningValg/RetbarKontoOplysninger/KontoperiodeValg/KontoperiodeÅrsUltimoListe/Kontoperiode/
A13: LånForholdRestanceMarkering | B13: true | C13: RenteIndberetningUdlånStruktur/IndberetningValg/RetbarKontoOplysninger/KontoperiodeValg/KontoperiodeÅrsUltimoListe/Kontoperiode/
A14: KontoTypeKode | B14: 56 | C14: RenteIndberetningUdlånStruktur/IndberetningValg/RetbarKontoOplysninger/KontoperiodeValg/KontoperiodeÅrsUltimoListe/Kontoperiode/
... A17: VirksomhedFormandAdministrator | B17: false | C17: RenteIndberetningUdlånStruktur/IndberetningValg/RetbarKontoOplysninger/KontoperiodeValg/KontoperiodeÅrsUltimoListe/Kontoperiode/KontohaverListe/KontohaverOplysninger/KontohaverValg/IndlændingValg/Person/

Sheet Eks 21
A1: Eksempel 21
A2: Indberetning til årsultimo på en udlånskonto med 5 låntagere (indlændinge, personer)
A3: Node | B3: Værdi | C3: Xpath
A4: Indkomstår | B4: 2026 | C4: RenteIndberetningUdlånStruktur/Indberetningsperiode/
A5: VirksomhedSENummer | B5: 12345678 | C5: RenteIndberetningUdlånStruktur/Indberetningspligtig/
A6: KontoID | B6: Udlaan-Aars_Eks_21 | C6: RenteIndberetningUdlånStruktur/
A7: IndberetningID | B7: 33921553-7fce-7cec-bf7b-e7c861940621 | C7: RenteIndberetningUdlånStruktur/IndberetningValg/RetbarKontoOplysninger/IndberetningIdentifikatorStruktur/
A8: UdlånKontoNummer | B8: 12341234567890 | C8: RenteIndberetningUdlånStruktur/IndberetningValg/RetbarKontoOplysninger/KontoDetaljer/
A9: KontoStartDato | B9: 2001-05-01 | C9: RenteIndberetningUdlånStruktur/IndberetningValg/RetbarKontoOplysninger/KontoDetaljer/
A10: KontoValutaKode | B10: DKK | C10: RenteIndberetningUdlånStruktur/IndberetningValg/RetbarKontoOplysninger/KontoDetaljer/
A11: RenteBeløb | B11: 200 | C11: RenteIndberetningUdlånStruktur/IndberetningValg/RetbarKontoOplysninger/Beløb/
A12: LånRestgældBeløb | B12: 5000,50 | C12: RenteIndberetningUdlånStruktur/IndberetningValg/RetbarKontoOplysninger/Beløb/
A13: RenteBeløb | B13: 200 | C13: RenteIndberetningUdlånStruktur/IndberetningValg/RetbarKontoOplysninger/KontoperiodeValg/KontoperiodeÅrsUltimoListe/Kontoperiode/
A14: LånForholdRestanceMarkering | B14: false | C14: RenteIndberetningUdlånStruktur/IndberetningValg/RetbarKontoOplysninger/KontoperiodeValg/KontoperiodeÅrsUltimoListe/Kontoperiode/
... A25: VirksomhedFormandAdministrator | B25: false | C25: RenteIndberetningUdlånStruktur/IndberetningValg/RetbarKontoOplysninger/KontoperiodeValg/KontoperiodeÅrsUltimoListe/Kontoperiode/KontohaverListe/KontohaverOplysninger[position()=5]/KontohaverValg/IndlændingValg/Person/

Sheet Eks 22
A1: Eksempel 22
A2: Indberetning til årsultimo på en udlånskonto med 3 låntagere (indlændinge, personer)
A3: Node | B3: Værdi | C3: Xpath
A4: Indkomstår | B4: 2026 | C4: RenteIndberetningUdlånStruktur/Indberetningsperiode/
A5: VirksomhedSENummer | B5: 12345678 | C5: RenteIndberetningUdlånStruktur/Indberetningspligtig/
A6: KontoID | B6: Udlaan-Aars_Eks_22 | C6: RenteIndberetningUdlånStruktur/
A7: IndberetningID | B7: 33921553-7fce-7cec-bf7b-e7c861940622 | C7: RenteIndberetningUdlånStruktur/IndberetningValg/RetbarKontoOplysninger/IndberetningIdentifikatorStruktur/
A8: UdlånKontoNummer | B8: 12341234567890 | C8: RenteIndberetningUdlånStruktur/IndberetningValg/RetbarKontoOplysninger/KontoDetaljer/
A9: KontoStartDato | B9: 2001-05-01 | C9: RenteIndberetningUdlånStruktur/IndberetningValg/RetbarKontoOplysninger/KontoDetaljer/
A10: KontoValutaKode | B10: DKK | C10: RenteIndberetningUdlånStruktur/IndberetningValg/RetbarKontoOplysninger/KontoDetaljer/
A11: RenteBeløb | B11: 200 | C11: RenteIndberetningUdlånStruktur/IndberetningValg/RetbarKontoOplysninger/Beløb/
A12: LånRestgældBeløb | B12: 5000,50 | C12: RenteIndberetningUdlånStruktur/IndberetningValg/RetbarKontoOplysninger/Beløb/
A13: RenteBeløb | B13: 200 | C13: RenteIndberetningUdlånStruktur/IndberetningValg/RetbarKontoOplysninger/KontoperiodeValg/KontoperiodeÅrsUltimoListe/Kontoperiode/
A14: LånForholdRestanceMarkering | B14: false | C14: RenteIndberetningUdlånStruktur/IndberetningValg/RetbarKontoOplysninger/KontoperiodeValg/KontoperiodeÅrsUltimoListe/Kontoperiode/
... A21: VirksomhedFormandAdministrator | B21: false | C21: RenteIndberetningUdlånStruktur/IndberetningValg/RetbarKontoOplysninger/KontoperiodeValg/KontoperiodeÅrsUltimoListe/Kontoperiode/KontohaverListe/KontohaverOplysninger[position()=3]/KontohaverValg/IndlændingValg/Person/

Sheet Eks 23
A1: Eksempel 23
A2: Indberetning til årsultimo på en udlånskonto med 1 låntager (indlænding, person), med kontoskift fra kontotype 53 til kontotye 56
A3: Node | B3: Værdi | C3: Xpath
A4: Indkomstår | B4: 2026 | C4: RenteIndberetningUdlånStruktur/Indberetningsperiode/
A5: VirksomhedSENummer | B5: 12345678 | C5: RenteIndberetningUdlånStruktur/Indberetningspligtig/
A6: KontoID | B6: Udlaan-Aars_Eks_23 | C6: RenteIndberetningUdlånStruktur/
A7: IndberetningID | B7: 33921553-7fce-7cec-bf7b-e7c861940623 | C7: RenteIndberetningUdlånStruktur/IndberetningValg/RetbarKontoOplysninger/IndberetningIdentifikatorStruktur/
A8: UdlånKontoNummer | B8: 12341234567890 | C8: RenteIndberetningUdlånStruktur/IndberetningValg/RetbarKontoOplysninger/KontoDetaljer/
A9: KontoStartDato | B9: 2001-05-01 | C9: RenteIndberetningUdlånStruktur/IndberetningValg/RetbarKontoOplysninger/KontoDetaljer/
A10: KontoValutaKode | B10: DKK | C10: RenteIndberetningUdlånStruktur/IndberetningValg/RetbarKontoOplysninger/KontoDetaljer/
A11: RenteBeløb | B11: 450 | C11: RenteIndberetningUdlånStruktur/IndberetningValg/RetbarKontoOplysninger/Beløb/
A12: LånRestgældBeløb | B12: 5000,50 | C12: RenteIndberetningUdlånStruktur/IndberetningValg/RetbarKontoOplysninger/Beløb/
A13: RenteBeløb | B13: 200 | C13: RenteIndberetningUdlånStruktur/IndberetningValg/RetbarKontoOplysninger/KontoperiodeValg/KontoperiodeÅrsUltimoListe/Kontoperiode[position()=1]/
A14: LånForholdRestanceMarkering | B14: false | C14: RenteIndberetningUdlånStruktur/IndberetningValg/RetbarKontoOplysninger/KontoperiodeValg/KontoperiodeÅrsUltimoListe/Kontoperiode[position()=1]/
A15: KontoperiodeOphørDato | B15: 46173 | C15: RenteIndberetningUdlånStruktur/IndberetningValg/RetbarKontoOplysninger/KontoperiodeValg/KontoperiodeÅrsUltimoListe/Kontoperiode[position()=1]/
A16: KontoTypeKode | B16: 53 | C16: RenteIndberetningUdlånStruktur/IndberetningValg/RetbarKontoOplysninger/KontoperiodeValg/KontoperiodeÅrsUltimoListe/Kontoperiode[position()=1]/
A17: PersonCPRNummer | B17: 1201280008 | C17: RenteIndberetningUdlånStruktur/IndberetningValg/RetbarKontoOplysninger/KontoperiodeValg/KontoperiodeÅrsUltimoListe/Kontoperiode[position()=1]/KontohaverListe/KontohaverOplysninger/KontohaverValg/IndlændingValg/Person/
A18: VirksomhedFormandAdministrator | B18: false | C18: RenteIndberetningUdlånStruktur/IndberetningValg/RetbarKontoOplysninger/KontoperiodeValg/KontoperiodeÅrsUltimoListe/Kontoperiode[position()=1]/KontohaverListe/KontohaverOplysninger/KontohaverValg/IndlændingValg/Person/
A19: RenteBeløb | B19: 250 | C19: RenteIndberetningUdlånStruktur/IndberetningValg/RetbarKontoOplysninger/KontoperiodeValg/KontoperiodeÅrsUltimoListe/Kontoperiode[position()=2]/
A20: LånForholdRestanceMarkering | B20: false | C20: RenteIndberetningUdlånStruktur/IndberetningValg/RetbarKontoOplysninger/KontoperiodeValg/KontoperiodeÅrsUltimoListe/Kontoperiode[position()=2]/
A21: KontoperiodeStartDato | B21: 46174 | C21: RenteIndberetningUdlånStruktur/IndberetningValg/RetbarKontoOplysninger/KontoperiodeValg/KontoperiodeÅrsUltimoListe/Kontoperiode[position()=2]/
A22: KontoTypeKode | B22: 56 | C22: RenteIndberetningUdlånStruktur/IndberetningValg/RetbarKontoOplysninger/KontoperiodeValg/KontoperiodeÅrsUltimoListe/Kontoperiode[position()=2]/
A23: PersonCPRNummer | B23: 1201280008 | C23: RenteIndberetningUdlånStruktur/IndberetningValg/RetbarKontoOplysninger/KontoperiodeValg/KontoperiodeÅrsUltimoListe/Kontoperiode[position()=2]/KontohaverListe/KontohaverOplysninger/KontohaverValg/IndlændingValg/Person/
A24: VirksomhedFormandAdministrator | B24: false | C24: RenteIndberetningUdlånStruktur/IndberetningValg/RetbarKontoOplysninger/KontoperiodeValg/KontoperiodeÅrsUltimoListe/Kontoperiode[position()=2]/KontohaverListe/KontohaverOplysninger/KontohaverValg/IndlændingValg/Person/

Sheet Eks 24
A1: Eksempel 24
A2: Indberetning til årsultimo på en udlånskonto med 2 låntagere (indlænding person og udlænding person), hvor begge personer har et CPR-nummer og udlænding person har TIN-nr. KontohaverIdentifikationMulig = true
A3: Node | B3: Værdi | C3: Xpath
A4: Indkomstår | B4: 2026 | C4: RenteIndberetningUdlånStruktur/Indberetningsperiode/
